BEGIN:VCALENDAR
VERSION:2.0
PRODID:-//Church of God International, Canada - ECPv6.15.20//NONSGML v1.0//EN
CALSCALE:GREGORIAN
METHOD:PUBLISH
X-ORIGINAL-URL:https://cgicanada.org
X-WR-CALDESC:Events for Church of God International, Canada
REFRESH-INTERVAL;VALUE=DURATION:PT1H
X-Robots-Tag:noindex
X-PUBLISHED-TTL:PT1H
BEGIN:VTIMEZONE
TZID:America/Toronto
BEGIN:DAYLIGHT
TZOFFSETFROM:-0500
TZOFFSETTO:-0400
TZNAME:EDT
DTSTART:20220313T070000
END:DAYLIGHT
BEGIN:STANDARD
TZOFFSETFROM:-0400
TZOFFSETTO:-0500
TZNAME:EST
DTSTART:20221106T060000
END:STANDARD
BEGIN:DAYLIGHT
TZOFFSETFROM:-0500
TZOFFSETTO:-0400
TZNAME:EDT
DTSTART:20230312T070000
END:DAYLIGHT
BEGIN:STANDARD
TZOFFSETFROM:-0400
TZOFFSETTO:-0500
TZNAME:EST
DTSTART:20231105T060000
END:STANDARD
BEGIN:DAYLIGHT
TZOFFSETFROM:-0500
TZOFFSETTO:-0400
TZNAME:EDT
DTSTART:20240310T070000
END:DAYLIGHT
BEGIN:STANDARD
TZOFFSETFROM:-0400
TZOFFSETTO:-0500
TZNAME:EST
DTSTART:20241103T060000
END:STANDARD
END:VTIMEZONE
BEGIN:VEVENT
DTSTART;TZID=America/Toronto:20230404T191500
DTEND;TZID=America/Toronto:20230404T210000
DTSTAMP:20260423T211917
CREATED:20230205T220554Z
LAST-MODIFIED:20230322T170017Z
UID:10003259-1680635700-1680642000@cgicanada.org
SUMMARY:New Testament Passover Services- April 4
DESCRIPTION:[vc_row][vc_column][vc_column_text]Sunset (Ottawa\, On) = 7:34pm \nOttawa – 7:20 pm\nLondon – 7-9:30 pm\nOther – To Be announced[/vc_column_text][/vc_column][/vc_row]
URL:https://cgicanada.org/event/new-testament-passover-april-4/
CATEGORIES:Holy Days
ATTACH;FMTTYPE=image/jpeg:https://cgicanada.org/wp-content/uploads/2021/03/HolyDayCalendar.jpg
END:VEVENT
BEGIN:VEVENT
DTSTART;TZID=America/Toronto:20230405T170000
DTEND;TZID=America/Toronto:20230405T210000
DTSTAMP:20260423T211917
CREATED:20230205T221110Z
LAST-MODIFIED:20230205T222456Z
UID:10003260-1680714000-1680728400@cgicanada.org
SUMMARY:Night to be Much Remembered - April 5
DESCRIPTION:Contact local congregations for more information …
URL:https://cgicanada.org/event/night-to-be-much-remembered-april-5/
CATEGORIES:Holy Days
ATTACH;FMTTYPE=image/jpeg:https://cgicanada.org/wp-content/uploads/2021/03/HolyDayCalendar.jpg
END:VEVENT
BEGIN:VEVENT
DTSTART;TZID=America/Toronto:20230405T193000
DTEND;TZID=America/Toronto:20230412T193000
DTSTAMP:20260423T211917
CREATED:20230205T221331Z
LAST-MODIFIED:20230205T221331Z
UID:10003261-1680723000-1681327800@cgicanada.org
SUMMARY:Days of Unleavened Bread
DESCRIPTION:
URL:https://cgicanada.org/event/days-of-unleavened-bread/
CATEGORIES:Holy Days
END:VEVENT
BEGIN:VEVENT
DTSTART;TZID=America/Toronto:20230406T130000
DTEND;TZID=America/Toronto:20230406T170000
DTSTAMP:20260423T211917
CREATED:20230205T222730Z
LAST-MODIFIED:20230322T170428Z
UID:10003520-1680786000-1680800400@cgicanada.org
SUMMARY:First Day of Unleavened Bread Services
DESCRIPTION:[vc_row][vc_column][vc_column_text]Ottawa – Jim French – 1:30 pm – Order-In meal\nLondon – 1:30pm – potluck meal \nOther Speakers & Locations … To Be Announced[/vc_column_text][/vc_column][/vc_row]
URL:https://cgicanada.org/event/first-day-of-unleavened-bread-2/
CATEGORIES:Holy Days
ATTACH;FMTTYPE=image/jpeg:https://cgicanada.org/wp-content/uploads/2021/03/HolyDayCalendar.jpg
END:VEVENT
BEGIN:VEVENT
DTSTART;TZID=America/Toronto:20230408T130000
DTEND;TZID=America/Toronto:20230408T170000
DTSTAMP:20260423T211917
CREATED:20230407T163545Z
LAST-MODIFIED:20230407T164240Z
UID:10005942-1680958800-1680973200@cgicanada.org
SUMMARY:Weekly Sabbath Services
DESCRIPTION:
URL:https://cgicanada.org/event/weekly-sabbath-services/2023-04-08/
CATEGORIES:Holy Days,Sabbath Services
ATTACH;FMTTYPE=image/jpeg:https://cgicanada.org/wp-content/uploads/2022/11/Field.jpg
END:VEVENT
BEGIN:VEVENT
DTSTART;TZID=America/Toronto:20230412T130000
DTEND;TZID=America/Toronto:20230412T170000
DTSTAMP:20260423T211917
CREATED:20230205T222933Z
LAST-MODIFIED:20230407T164606Z
UID:10003521-1681304400-1681318800@cgicanada.org
SUMMARY:Last Day of Unleavened Bread Services
DESCRIPTION:Ottawa –  1:30 pm – Potluck Meal\nLondon – 1:30 pm – Potluck Meal
URL:https://cgicanada.org/event/last-day-of-unleavened-bread-4/
CATEGORIES:Holy Days
ATTACH;FMTTYPE=image/jpeg:https://cgicanada.org/wp-content/uploads/2021/03/HolyDayCalendar.jpg
END:VEVENT
BEGIN:VEVENT
DTSTART;TZID=America/Toronto:20230415T130000
DTEND;TZID=America/Toronto:20230415T170000
DTSTAMP:20260423T211917
CREATED:20230407T163545Z
LAST-MODIFIED:20230407T164240Z
UID:10005943-1681563600-1681578000@cgicanada.org
SUMMARY:Weekly Sabbath Services
DESCRIPTION:
URL:https://cgicanada.org/event/weekly-sabbath-services/2023-04-15/
CATEGORIES:Holy Days,Sabbath Services
ATTACH;FMTTYPE=image/jpeg:https://cgicanada.org/wp-content/uploads/2022/11/Field.jpg
END:VEVENT
BEGIN:VEVENT
DTSTART;TZID=America/Toronto:20230429T130000
DTEND;TZID=America/Toronto:20230429T170000
DTSTAMP:20260423T211917
CREATED:20230407T163545Z
LAST-MODIFIED:20230407T164240Z
UID:10005944-1682773200-1682787600@cgicanada.org
SUMMARY:Weekly Sabbath Services
DESCRIPTION:
URL:https://cgicanada.org/event/weekly-sabbath-services/2023-04-29/
CATEGORIES:Holy Days,Sabbath Services
ATTACH;FMTTYPE=image/jpeg:https://cgicanada.org/wp-content/uploads/2022/11/Field.jpg
END:VEVENT
END:VCALENDAR