BEGIN:VCALENDAR
VERSION:2.0
PRODID:-//Church of God International, Canada - ECPv6.15.20//NONSGML v1.0//EN
CALSCALE:GREGORIAN
METHOD:PUBLISH
X-WR-CALNAME:Church of God International, Canada
X-ORIGINAL-URL:https://cgicanada.org
X-WR-CALDESC:Events for Church of God International, Canada
REFRESH-INTERVAL;VALUE=DURATION:PT1H
X-Robots-Tag:noindex
X-PUBLISHED-TTL:PT1H
BEGIN:VTIMEZONE
TZID:America/Toronto
BEGIN:DAYLIGHT
TZOFFSETFROM:-0500
TZOFFSETTO:-0400
TZNAME:EDT
DTSTART:20220313T070000
END:DAYLIGHT
BEGIN:STANDARD
TZOFFSETFROM:-0400
TZOFFSETTO:-0500
TZNAME:EST
DTSTART:20221106T060000
END:STANDARD
BEGIN:DAYLIGHT
TZOFFSETFROM:-0500
TZOFFSETTO:-0400
TZNAME:EDT
DTSTART:20230312T070000
END:DAYLIGHT
BEGIN:STANDARD
TZOFFSETFROM:-0400
TZOFFSETTO:-0500
TZNAME:EST
DTSTART:20231105T060000
END:STANDARD
BEGIN:DAYLIGHT
TZOFFSETFROM:-0500
TZOFFSETTO:-0400
TZNAME:EDT
DTSTART:20240310T070000
END:DAYLIGHT
BEGIN:STANDARD
TZOFFSETFROM:-0400
TZOFFSETTO:-0500
TZNAME:EST
DTSTART:20241103T060000
END:STANDARD
END:VTIMEZONE
BEGIN:VEVENT
DTSTART;TZID=America/Toronto:20230916T130000
DTEND;TZID=America/Toronto:20230916T170000
DTSTAMP:20260423T110739
CREATED:20230205T223644Z
LAST-MODIFIED:20230915T195015Z
UID:10003523-1694869200-1694883600@cgicanada.org
SUMMARY:Feast of Trumpets Service
DESCRIPTION:[vc_row][vc_column][vc_column_text]Speakers & Locations … \n\nFor Burlington\, Kitchener & Toronto … meeting at Puslinch\,ON\nFor Kawartha\, Ottawa & London … meeting at regular Sabbath locations\n\n[/vc_column_text][/vc_column][/vc_row]
URL:https://cgicanada.org/event/feast-of-trumpets-service/
CATEGORIES:Holy Days
ATTACH;FMTTYPE=image/jpeg:https://cgicanada.org/wp-content/uploads/2021/03/HolyDayCalendar.jpg
END:VEVENT
BEGIN:VEVENT
DTSTART;TZID=America/Toronto:20230925T080000
DTEND;TZID=America/Toronto:20230925T170000
DTSTAMP:20260423T110739
CREATED:20230205T223905Z
LAST-MODIFIED:20230915T200639Z
UID:10003524-1695628800-1695661200@cgicanada.org
SUMMARY:Day of Atonement Services
DESCRIPTION:[vc_row][vc_column][vc_column_text]Click city for link to their Webcast or Zoom services: \nBurlington 1:30pm \nKitchener 1:30pm \nOttawa 1:00pm \nToronto 1:30pm \nNo Internet “Live service” option for these locations:\nKawartha Lakes 1:30pm\nLondon 1:30pm[/vc_column_text][/vc_column][/vc_row]
URL:https://cgicanada.org/event/day-of-atonement-services/
CATEGORIES:Holy Days
ATTACH;FMTTYPE=image/jpeg:https://cgicanada.org/wp-content/uploads/2021/03/HolyDayCalendar.jpg
END:VEVENT
BEGIN:VEVENT
DTSTART;TZID=America/Toronto:20230929T190700
DTEND;TZID=America/Toronto:20231006T182900
DTSTAMP:20260423T110739
CREATED:20230205T224527Z
LAST-MODIFIED:20230205T224804Z
UID:10003525-1696014420-1696616940@cgicanada.org
SUMMARY:Feast of Tabernacles
DESCRIPTION:For more information:  https://cgicanadafeast.org/
URL:https://cgicanada.org/event/feast-of-tabernacles-7/
CATEGORIES:Holy Days
ATTACH;FMTTYPE=image/jpeg:https://cgicanada.org/wp-content/uploads/2021/03/HolyDayCalendar.jpg
END:VEVENT
BEGIN:VEVENT
DTSTART;TZID=America/Toronto:20230930T110000
DTEND;TZID=America/Toronto:20230930T170000
DTSTAMP:20260423T110739
CREATED:20230205T225348Z
LAST-MODIFIED:20230205T225348Z
UID:10003526-1696071600-1696093200@cgicanada.org
SUMMARY:First Day - Feast of Tabernacles Service
DESCRIPTION:For more information:  https://cgicanadafeast.org/
URL:https://cgicanada.org/event/first-day-feast-of-tabernacles-service/
CATEGORIES:Holy Days
END:VEVENT
END:VCALENDAR