BEGIN:VCALENDAR
VERSION:2.0
PRODID:-//Church of God International, Canada - ECPv6.15.20//NONSGML v1.0//EN
CALSCALE:GREGORIAN
METHOD:PUBLISH
X-WR-CALNAME:Church of God International, Canada
X-ORIGINAL-URL:https://cgicanada.org
X-WR-CALDESC:Events for Church of God International, Canada
REFRESH-INTERVAL;VALUE=DURATION:PT1H
X-Robots-Tag:noindex
X-PUBLISHED-TTL:PT1H
BEGIN:VTIMEZONE
TZID:America/Toronto
BEGIN:DAYLIGHT
TZOFFSETFROM:-0500
TZOFFSETTO:-0400
TZNAME:EDT
DTSTART:20230312T070000
END:DAYLIGHT
BEGIN:STANDARD
TZOFFSETFROM:-0400
TZOFFSETTO:-0500
TZNAME:EST
DTSTART:20231105T060000
END:STANDARD
BEGIN:DAYLIGHT
TZOFFSETFROM:-0500
TZOFFSETTO:-0400
TZNAME:EDT
DTSTART:20240310T070000
END:DAYLIGHT
BEGIN:STANDARD
TZOFFSETFROM:-0400
TZOFFSETTO:-0500
TZNAME:EST
DTSTART:20241103T060000
END:STANDARD
BEGIN:DAYLIGHT
TZOFFSETFROM:-0500
TZOFFSETTO:-0400
TZNAME:EDT
DTSTART:20250309T070000
END:DAYLIGHT
BEGIN:STANDARD
TZOFFSETFROM:-0400
TZOFFSETTO:-0500
TZNAME:EST
DTSTART:20251102T060000
END:STANDARD
END:VTIMEZONE
BEGIN:VEVENT
DTSTART;TZID=America/Toronto:20240421T193000
DTEND;TZID=America/Toronto:20240421T210000
DTSTAMP:20260423T000154
CREATED:20240319T192740Z
LAST-MODIFIED:20240319T192740Z
UID:10006312-1713727800-1713733200@cgicanada.org
SUMMARY:Passover
DESCRIPTION:Contact Local Congregation for Information
URL:https://cgicanada.org/event/passover/
CATEGORIES:Holy Days
END:VEVENT
BEGIN:VEVENT
DTSTART;VALUE=DATE:20240423
DTEND;VALUE=DATE:20240430
DTSTAMP:20260423T000154
CREATED:20240319T193130Z
LAST-MODIFIED:20240322T225000Z
UID:10006313-1713830400-1714435199@cgicanada.org
SUMMARY:Days of Unleavened Bread
DESCRIPTION:Holy Days: Tuesday April 23 & Monday April 29 \nContact Congregation for more information
URL:https://cgicanada.org/event/days-of-unleavened-bread-2/
CATEGORIES:Holy Days
ATTACH;FMTTYPE=image/jpeg:https://cgicanada.org/wp-content/uploads/2024/03/April2024.jpg
END:VEVENT
END:VCALENDAR