BEGIN:VCALENDAR
VERSION:2.0
PRODID:-//Church of God International, Canada - ECPv6.15.20//NONSGML v1.0//EN
CALSCALE:GREGORIAN
METHOD:PUBLISH
X-ORIGINAL-URL:https://cgicanada.org
X-WR-CALDESC:Events for Church of God International, Canada
REFRESH-INTERVAL;VALUE=DURATION:PT1H
X-Robots-Tag:noindex
X-PUBLISHED-TTL:PT1H
BEGIN:VTIMEZONE
TZID:America/Toronto
BEGIN:DAYLIGHT
TZOFFSETFROM:-0500
TZOFFSETTO:-0400
TZNAME:EDT
DTSTART:20230312T070000
END:DAYLIGHT
BEGIN:STANDARD
TZOFFSETFROM:-0400
TZOFFSETTO:-0500
TZNAME:EST
DTSTART:20231105T060000
END:STANDARD
BEGIN:DAYLIGHT
TZOFFSETFROM:-0500
TZOFFSETTO:-0400
TZNAME:EDT
DTSTART:20240310T070000
END:DAYLIGHT
BEGIN:STANDARD
TZOFFSETFROM:-0400
TZOFFSETTO:-0500
TZNAME:EST
DTSTART:20241103T060000
END:STANDARD
BEGIN:DAYLIGHT
TZOFFSETFROM:-0500
TZOFFSETTO:-0400
TZNAME:EDT
DTSTART:20250309T070000
END:DAYLIGHT
BEGIN:STANDARD
TZOFFSETFROM:-0400
TZOFFSETTO:-0500
TZNAME:EST
DTSTART:20251102T060000
END:STANDARD
END:VTIMEZONE
BEGIN:VEVENT
DTSTART;VALUE=DATE:20241003
DTEND;VALUE=DATE:20241004
DTSTAMP:20260422T122259
CREATED:20240831T023308Z
LAST-MODIFIED:20240928T001007Z
UID:10006315-1727913600-1727999999@cgicanada.org
SUMMARY:Feast of Trumpets
DESCRIPTION:
URL:https://cgicanada.org/event/feast-of-trumpets/
CATEGORIES:Holy Days
ATTACH;FMTTYPE=image/jpeg:https://cgicanada.org/wp-content/uploads/2017/09/trumpeter-569862__340.jpg
END:VEVENT
BEGIN:VEVENT
DTSTART;VALUE=DATE:20241012
DTEND;VALUE=DATE:20241013
DTSTAMP:20260422T122259
CREATED:20240831T023820Z
LAST-MODIFIED:20240928T001611Z
UID:10006316-1728691200-1728777599@cgicanada.org
SUMMARY:Day of Atonement
DESCRIPTION:Beginning Sunset Oct 11\, 2024 until Oct 12\, 2024
URL:https://cgicanada.org/event/day-of-atonement/
CATEGORIES:Holy Days
ATTACH;FMTTYPE=image/jpeg:https://cgicanada.org/wp-content/uploads/2017/04/FOA-FastingOnAtonement.jpg
END:VEVENT
BEGIN:VEVENT
DTSTART;VALUE=DATE:20241024
DTEND;VALUE=DATE:20241025
DTSTAMP:20260422T122259
CREATED:20240831T025059Z
LAST-MODIFIED:20240831T025059Z
UID:10006318-1729728000-1729814399@cgicanada.org
SUMMARY:Last Great Day
DESCRIPTION:See service plan on the Feast website:  https://cgicanadafeast.org/
URL:https://cgicanada.org/event/last-great-day/
CATEGORIES:Holy Days
ATTACH;FMTTYPE=image/jpeg:https://cgicanada.org/wp-content/uploads/2018/03/prayer-2544994_1280.jpg
END:VEVENT
END:VCALENDAR