BEGIN:VCALENDAR
VERSION:2.0
PRODID:-//Church of God International, Canada - ECPv6.15.20//NONSGML v1.0//EN
CALSCALE:GREGORIAN
METHOD:PUBLISH
X-ORIGINAL-URL:https://cgicanada.org
X-WR-CALDESC:Events for Church of God International, Canada
REFRESH-INTERVAL;VALUE=DURATION:PT1H
X-Robots-Tag:noindex
X-PUBLISHED-TTL:PT1H
BEGIN:VTIMEZONE
TZID:America/Toronto
BEGIN:DAYLIGHT
TZOFFSETFROM:-0500
TZOFFSETTO:-0400
TZNAME:EDT
DTSTART:20230312T070000
END:DAYLIGHT
BEGIN:STANDARD
TZOFFSETFROM:-0400
TZOFFSETTO:-0500
TZNAME:EST
DTSTART:20231105T060000
END:STANDARD
BEGIN:DAYLIGHT
TZOFFSETFROM:-0500
TZOFFSETTO:-0400
TZNAME:EDT
DTSTART:20240310T070000
END:DAYLIGHT
BEGIN:STANDARD
TZOFFSETFROM:-0400
TZOFFSETTO:-0500
TZNAME:EST
DTSTART:20241103T060000
END:STANDARD
BEGIN:DAYLIGHT
TZOFFSETFROM:-0500
TZOFFSETTO:-0400
TZNAME:EDT
DTSTART:20250309T070000
END:DAYLIGHT
BEGIN:STANDARD
TZOFFSETFROM:-0400
TZOFFSETTO:-0500
TZNAME:EST
DTSTART:20251102T060000
END:STANDARD
END:VTIMEZONE
BEGIN:VEVENT
DTSTART;TZID=America/Toronto:20240102T120000
DTEND;TZID=America/Toronto:20240102T130000
DTSTAMP:20260425T150118
CREATED:20230109T012141Z
LAST-MODIFIED:20230206T204204Z
UID:10001150-1704196800-1704200400@cgicanada.org
SUMMARY:Prove All Things (Live Webcast)
DESCRIPTION:https://cgi.online.church/
URL:https://cgicanada.org/event/prove-all-things-live-webcast/2024-01-02/
CATEGORIES:Outreach
ATTACH;FMTTYPE=image/jpeg:https://cgicanada.org/wp-content/uploads/2022/11/Prove.jpg
END:VEVENT
BEGIN:VEVENT
DTSTART;TZID=America/Toronto:20240103T193000
DTEND;TZID=America/Toronto:20240103T203000
DTSTAMP:20260425T150118
CREATED:20230109T012544Z
LAST-MODIFIED:20230205T153130Z
UID:10000889-1704310200-1704313800@cgicanada.org
SUMMARY:Line Upon Line Bible Study
DESCRIPTION:https://rumble.com/c/c-1359686
URL:https://cgicanada.org/event/line-upon-line-bible-study-11/2024-01-03/
CATEGORIES:Outreach
ATTACH;FMTTYPE=image/jpeg:https://cgicanada.org/wp-content/uploads/2022/12/Line2.jpg
END:VEVENT
BEGIN:VEVENT
DTSTART;TZID=America/Toronto:20240105T200000
DTEND;TZID=America/Toronto:20240105T210000
DTSTAMP:20260425T150118
CREATED:20230109T013033Z
LAST-MODIFIED:20230205T152719Z
UID:10000628-1704484800-1704488400@cgicanada.org
SUMMARY:Toronto 8 pm Sabbath Evening Prayer
DESCRIPTION:For Information … Contact Ken Allen <ken.allen@cgicanada.org>
URL:https://cgicanada.org/event/toronto-8-pm-sabbath-evening-prayer-12/2024-01-05/
CATEGORIES:Outreach
ATTACH;FMTTYPE=image/jpeg:https://cgicanada.org/wp-content/uploads/2022/11/Forest.jpg
END:VEVENT
BEGIN:VEVENT
DTSTART;TZID=America/Toronto:20240109T120000
DTEND;TZID=America/Toronto:20240109T130000
DTSTAMP:20260425T150118
CREATED:20230109T012141Z
LAST-MODIFIED:20230206T204204Z
UID:10001151-1704801600-1704805200@cgicanada.org
SUMMARY:Prove All Things (Live Webcast)
DESCRIPTION:https://cgi.online.church/
URL:https://cgicanada.org/event/prove-all-things-live-webcast/2024-01-09/
CATEGORIES:Outreach
ATTACH;FMTTYPE=image/jpeg:https://cgicanada.org/wp-content/uploads/2022/11/Prove.jpg
END:VEVENT
BEGIN:VEVENT
DTSTART;TZID=America/Toronto:20240110T193000
DTEND;TZID=America/Toronto:20240110T203000
DTSTAMP:20260425T150118
CREATED:20230109T012544Z
LAST-MODIFIED:20230205T153130Z
UID:10000890-1704915000-1704918600@cgicanada.org
SUMMARY:Line Upon Line Bible Study
DESCRIPTION:https://rumble.com/c/c-1359686
URL:https://cgicanada.org/event/line-upon-line-bible-study-11/2024-01-10/
CATEGORIES:Outreach
ATTACH;FMTTYPE=image/jpeg:https://cgicanada.org/wp-content/uploads/2022/12/Line2.jpg
END:VEVENT
BEGIN:VEVENT
DTSTART;TZID=America/Toronto:20240112T200000
DTEND;TZID=America/Toronto:20240112T210000
DTSTAMP:20260425T150118
CREATED:20230109T013033Z
LAST-MODIFIED:20230205T152719Z
UID:10000629-1705089600-1705093200@cgicanada.org
SUMMARY:Toronto 8 pm Sabbath Evening Prayer
DESCRIPTION:For Information … Contact Ken Allen <ken.allen@cgicanada.org>
URL:https://cgicanada.org/event/toronto-8-pm-sabbath-evening-prayer-12/2024-01-12/
CATEGORIES:Outreach
ATTACH;FMTTYPE=image/jpeg:https://cgicanada.org/wp-content/uploads/2022/11/Forest.jpg
END:VEVENT
BEGIN:VEVENT
DTSTART;TZID=America/Toronto:20240116T120000
DTEND;TZID=America/Toronto:20240116T130000
DTSTAMP:20260425T150118
CREATED:20230109T012141Z
LAST-MODIFIED:20230206T204204Z
UID:10001152-1705406400-1705410000@cgicanada.org
SUMMARY:Prove All Things (Live Webcast)
DESCRIPTION:https://cgi.online.church/
URL:https://cgicanada.org/event/prove-all-things-live-webcast/2024-01-16/
CATEGORIES:Outreach
ATTACH;FMTTYPE=image/jpeg:https://cgicanada.org/wp-content/uploads/2022/11/Prove.jpg
END:VEVENT
BEGIN:VEVENT
DTSTART;TZID=America/Toronto:20240117T193000
DTEND;TZID=America/Toronto:20240117T203000
DTSTAMP:20260425T150118
CREATED:20230109T012544Z
LAST-MODIFIED:20230205T153130Z
UID:10000891-1705519800-1705523400@cgicanada.org
SUMMARY:Line Upon Line Bible Study
DESCRIPTION:https://rumble.com/c/c-1359686
URL:https://cgicanada.org/event/line-upon-line-bible-study-11/2024-01-17/
CATEGORIES:Outreach
ATTACH;FMTTYPE=image/jpeg:https://cgicanada.org/wp-content/uploads/2022/12/Line2.jpg
END:VEVENT
BEGIN:VEVENT
DTSTART;TZID=America/Toronto:20240119T200000
DTEND;TZID=America/Toronto:20240119T210000
DTSTAMP:20260425T150118
CREATED:20230109T013033Z
LAST-MODIFIED:20230205T152719Z
UID:10000630-1705694400-1705698000@cgicanada.org
SUMMARY:Toronto 8 pm Sabbath Evening Prayer
DESCRIPTION:For Information … Contact Ken Allen <ken.allen@cgicanada.org>
URL:https://cgicanada.org/event/toronto-8-pm-sabbath-evening-prayer-12/2024-01-19/
CATEGORIES:Outreach
ATTACH;FMTTYPE=image/jpeg:https://cgicanada.org/wp-content/uploads/2022/11/Forest.jpg
END:VEVENT
BEGIN:VEVENT
DTSTART;TZID=America/Toronto:20240123T120000
DTEND;TZID=America/Toronto:20240123T130000
DTSTAMP:20260425T150118
CREATED:20230109T012141Z
LAST-MODIFIED:20230206T204204Z
UID:10001153-1706011200-1706014800@cgicanada.org
SUMMARY:Prove All Things (Live Webcast)
DESCRIPTION:https://cgi.online.church/
URL:https://cgicanada.org/event/prove-all-things-live-webcast/2024-01-23/
CATEGORIES:Outreach
ATTACH;FMTTYPE=image/jpeg:https://cgicanada.org/wp-content/uploads/2022/11/Prove.jpg
END:VEVENT
BEGIN:VEVENT
DTSTART;TZID=America/Toronto:20240124T193000
DTEND;TZID=America/Toronto:20240124T203000
DTSTAMP:20260425T150118
CREATED:20230109T012544Z
LAST-MODIFIED:20230205T153130Z
UID:10000892-1706124600-1706128200@cgicanada.org
SUMMARY:Line Upon Line Bible Study
DESCRIPTION:https://rumble.com/c/c-1359686
URL:https://cgicanada.org/event/line-upon-line-bible-study-11/2024-01-24/
CATEGORIES:Outreach
ATTACH;FMTTYPE=image/jpeg:https://cgicanada.org/wp-content/uploads/2022/12/Line2.jpg
END:VEVENT
BEGIN:VEVENT
DTSTART;TZID=America/Toronto:20240126T200000
DTEND;TZID=America/Toronto:20240126T210000
DTSTAMP:20260425T150118
CREATED:20230109T013033Z
LAST-MODIFIED:20230205T152719Z
UID:10000631-1706299200-1706302800@cgicanada.org
SUMMARY:Toronto 8 pm Sabbath Evening Prayer
DESCRIPTION:For Information … Contact Ken Allen <ken.allen@cgicanada.org>
URL:https://cgicanada.org/event/toronto-8-pm-sabbath-evening-prayer-12/2024-01-26/
CATEGORIES:Outreach
ATTACH;FMTTYPE=image/jpeg:https://cgicanada.org/wp-content/uploads/2022/11/Forest.jpg
END:VEVENT
BEGIN:VEVENT
DTSTART;TZID=America/Toronto:20240130T120000
DTEND;TZID=America/Toronto:20240130T130000
DTSTAMP:20260425T150118
CREATED:20230109T012141Z
LAST-MODIFIED:20230206T204204Z
UID:10001154-1706616000-1706619600@cgicanada.org
SUMMARY:Prove All Things (Live Webcast)
DESCRIPTION:https://cgi.online.church/
URL:https://cgicanada.org/event/prove-all-things-live-webcast/2024-01-30/
CATEGORIES:Outreach
ATTACH;FMTTYPE=image/jpeg:https://cgicanada.org/wp-content/uploads/2022/11/Prove.jpg
END:VEVENT
BEGIN:VEVENT
DTSTART;TZID=America/Toronto:20240131T193000
DTEND;TZID=America/Toronto:20240131T203000
DTSTAMP:20260425T150118
CREATED:20230109T012544Z
LAST-MODIFIED:20230205T153130Z
UID:10000893-1706729400-1706733000@cgicanada.org
SUMMARY:Line Upon Line Bible Study
DESCRIPTION:https://rumble.com/c/c-1359686
URL:https://cgicanada.org/event/line-upon-line-bible-study-11/2024-01-31/
CATEGORIES:Outreach
ATTACH;FMTTYPE=image/jpeg:https://cgicanada.org/wp-content/uploads/2022/12/Line2.jpg
END:VEVENT
END:VCALENDAR