BEGIN:VCALENDAR
VERSION:2.0
PRODID:-//Church of God International, Canada - ECPv6.15.20//NONSGML v1.0//EN
CALSCALE:GREGORIAN
METHOD:PUBLISH
X-ORIGINAL-URL:https://cgicanada.org
X-WR-CALDESC:Events for Church of God International, Canada
REFRESH-INTERVAL;VALUE=DURATION:PT1H
X-Robots-Tag:noindex
X-PUBLISHED-TTL:PT1H
BEGIN:VTIMEZONE
TZID:America/Toronto
BEGIN:DAYLIGHT
TZOFFSETFROM:-0500
TZOFFSETTO:-0400
TZNAME:EDT
DTSTART:20230312T070000
END:DAYLIGHT
BEGIN:STANDARD
TZOFFSETFROM:-0400
TZOFFSETTO:-0500
TZNAME:EST
DTSTART:20231105T060000
END:STANDARD
BEGIN:DAYLIGHT
TZOFFSETFROM:-0500
TZOFFSETTO:-0400
TZNAME:EDT
DTSTART:20240310T070000
END:DAYLIGHT
BEGIN:STANDARD
TZOFFSETFROM:-0400
TZOFFSETTO:-0500
TZNAME:EST
DTSTART:20241103T060000
END:STANDARD
BEGIN:DAYLIGHT
TZOFFSETFROM:-0500
TZOFFSETTO:-0400
TZNAME:EDT
DTSTART:20250309T070000
END:DAYLIGHT
BEGIN:STANDARD
TZOFFSETFROM:-0400
TZOFFSETTO:-0500
TZNAME:EST
DTSTART:20251102T060000
END:STANDARD
END:VTIMEZONE
BEGIN:VEVENT
DTSTART;TZID=America/Toronto:20240501T193000
DTEND;TZID=America/Toronto:20240501T203000
DTSTAMP:20260425T073149
CREATED:20230109T012544Z
LAST-MODIFIED:20230205T153130Z
UID:10000906-1714591800-1714595400@cgicanada.org
SUMMARY:Line Upon Line Bible Study
DESCRIPTION:https://rumble.com/c/c-1359686
URL:https://cgicanada.org/event/line-upon-line-bible-study-11/2024-05-01/
CATEGORIES:Outreach
ATTACH;FMTTYPE=image/jpeg:https://cgicanada.org/wp-content/uploads/2022/12/Line2.jpg
END:VEVENT
BEGIN:VEVENT
DTSTART;TZID=America/Toronto:20240503T200000
DTEND;TZID=America/Toronto:20240503T210000
DTSTAMP:20260425T073149
CREATED:20230109T013033Z
LAST-MODIFIED:20230205T152719Z
UID:10000645-1714766400-1714770000@cgicanada.org
SUMMARY:Toronto 8 pm Sabbath Evening Prayer
DESCRIPTION:For Information … Contact Ken Allen <ken.allen@cgicanada.org>
URL:https://cgicanada.org/event/toronto-8-pm-sabbath-evening-prayer-12/2024-05-03/
CATEGORIES:Outreach
ATTACH;FMTTYPE=image/jpeg:https://cgicanada.org/wp-content/uploads/2022/11/Forest.jpg
END:VEVENT
BEGIN:VEVENT
DTSTART;TZID=America/Toronto:20240507T120000
DTEND;TZID=America/Toronto:20240507T130000
DTSTAMP:20260425T073149
CREATED:20230109T012141Z
LAST-MODIFIED:20230206T204204Z
UID:10001168-1715083200-1715086800@cgicanada.org
SUMMARY:Prove All Things (Live Webcast)
DESCRIPTION:https://cgi.online.church/
URL:https://cgicanada.org/event/prove-all-things-live-webcast/2024-05-07/
CATEGORIES:Outreach
ATTACH;FMTTYPE=image/jpeg:https://cgicanada.org/wp-content/uploads/2022/11/Prove.jpg
END:VEVENT
BEGIN:VEVENT
DTSTART;TZID=America/Toronto:20240508T193000
DTEND;TZID=America/Toronto:20240508T203000
DTSTAMP:20260425T073149
CREATED:20230109T012544Z
LAST-MODIFIED:20230205T153130Z
UID:10000907-1715196600-1715200200@cgicanada.org
SUMMARY:Line Upon Line Bible Study
DESCRIPTION:https://rumble.com/c/c-1359686
URL:https://cgicanada.org/event/line-upon-line-bible-study-11/2024-05-08/
CATEGORIES:Outreach
ATTACH;FMTTYPE=image/jpeg:https://cgicanada.org/wp-content/uploads/2022/12/Line2.jpg
END:VEVENT
BEGIN:VEVENT
DTSTART;TZID=America/Toronto:20240510T200000
DTEND;TZID=America/Toronto:20240510T210000
DTSTAMP:20260425T073149
CREATED:20230109T013033Z
LAST-MODIFIED:20230205T152719Z
UID:10000646-1715371200-1715374800@cgicanada.org
SUMMARY:Toronto 8 pm Sabbath Evening Prayer
DESCRIPTION:For Information … Contact Ken Allen <ken.allen@cgicanada.org>
URL:https://cgicanada.org/event/toronto-8-pm-sabbath-evening-prayer-12/2024-05-10/
CATEGORIES:Outreach
ATTACH;FMTTYPE=image/jpeg:https://cgicanada.org/wp-content/uploads/2022/11/Forest.jpg
END:VEVENT
BEGIN:VEVENT
DTSTART;TZID=America/Toronto:20240511T103000
DTEND;TZID=America/Toronto:20240511T160000
DTSTAMP:20260425T073149
CREATED:20240212T021728Z
LAST-MODIFIED:20240514T044204Z
UID:10006311-1715423400-1715443200@cgicanada.org
SUMMARY:Campaign: Restore Truths
DESCRIPTION:[vc_row][vc_column][vc_column_text] \nBill Watson’s first presentation at the Restored Truth Symposium\n.             Who Changed Sabbath To Sunday? \nhttps://cgicanada2.org/media/London/Sermons/CgiLondon-BillWatson-2024-Campaign-WhoChangedSabbathToSunday.mp4\n.\nRegistration Closed \nPlease enable JavaScript in your browser to complete this form.Name *Email *Number AttendingSend Message  \n.                                        .  Symposium Information \nhttps://cgicanada2.org/media/events/2024-London/London-2024-Ad.mp4\n.\nJoin us for a FREE public symposium designed to address these questions as we seek to Restore Truths –– practiced and taught by the early Christians\, so you can actually compare the differences most traditional Christian Churches teach today to the original teachings of Jesus and His Apostles. \n \n  \n \n.[/vc_column_text][/vc_column][/vc_row] \n 
URL:https://cgicanada.org/event/campaign-restore-truths/
CATEGORIES:Outreach
END:VEVENT
BEGIN:VEVENT
DTSTART;TZID=America/Toronto:20240514T120000
DTEND;TZID=America/Toronto:20240514T130000
DTSTAMP:20260425T073149
CREATED:20230109T012141Z
LAST-MODIFIED:20230206T204204Z
UID:10001169-1715688000-1715691600@cgicanada.org
SUMMARY:Prove All Things (Live Webcast)
DESCRIPTION:https://cgi.online.church/
URL:https://cgicanada.org/event/prove-all-things-live-webcast/2024-05-14/
CATEGORIES:Outreach
ATTACH;FMTTYPE=image/jpeg:https://cgicanada.org/wp-content/uploads/2022/11/Prove.jpg
END:VEVENT
BEGIN:VEVENT
DTSTART;TZID=America/Toronto:20240515T193000
DTEND;TZID=America/Toronto:20240515T203000
DTSTAMP:20260425T073149
CREATED:20230109T012544Z
LAST-MODIFIED:20230205T153130Z
UID:10000908-1715801400-1715805000@cgicanada.org
SUMMARY:Line Upon Line Bible Study
DESCRIPTION:https://rumble.com/c/c-1359686
URL:https://cgicanada.org/event/line-upon-line-bible-study-11/2024-05-15/
CATEGORIES:Outreach
ATTACH;FMTTYPE=image/jpeg:https://cgicanada.org/wp-content/uploads/2022/12/Line2.jpg
END:VEVENT
BEGIN:VEVENT
DTSTART;TZID=America/Toronto:20240517T200000
DTEND;TZID=America/Toronto:20240517T210000
DTSTAMP:20260425T073149
CREATED:20230109T013033Z
LAST-MODIFIED:20230205T152719Z
UID:10000647-1715976000-1715979600@cgicanada.org
SUMMARY:Toronto 8 pm Sabbath Evening Prayer
DESCRIPTION:For Information … Contact Ken Allen <ken.allen@cgicanada.org>
URL:https://cgicanada.org/event/toronto-8-pm-sabbath-evening-prayer-12/2024-05-17/
CATEGORIES:Outreach
ATTACH;FMTTYPE=image/jpeg:https://cgicanada.org/wp-content/uploads/2022/11/Forest.jpg
END:VEVENT
BEGIN:VEVENT
DTSTART;TZID=America/Toronto:20240521T120000
DTEND;TZID=America/Toronto:20240521T130000
DTSTAMP:20260425T073149
CREATED:20230109T012141Z
LAST-MODIFIED:20230206T204204Z
UID:10001170-1716292800-1716296400@cgicanada.org
SUMMARY:Prove All Things (Live Webcast)
DESCRIPTION:https://cgi.online.church/
URL:https://cgicanada.org/event/prove-all-things-live-webcast/2024-05-21/
CATEGORIES:Outreach
ATTACH;FMTTYPE=image/jpeg:https://cgicanada.org/wp-content/uploads/2022/11/Prove.jpg
END:VEVENT
BEGIN:VEVENT
DTSTART;TZID=America/Toronto:20240522T193000
DTEND;TZID=America/Toronto:20240522T203000
DTSTAMP:20260425T073149
CREATED:20230109T012544Z
LAST-MODIFIED:20230205T153130Z
UID:10000909-1716406200-1716409800@cgicanada.org
SUMMARY:Line Upon Line Bible Study
DESCRIPTION:https://rumble.com/c/c-1359686
URL:https://cgicanada.org/event/line-upon-line-bible-study-11/2024-05-22/
CATEGORIES:Outreach
ATTACH;FMTTYPE=image/jpeg:https://cgicanada.org/wp-content/uploads/2022/12/Line2.jpg
END:VEVENT
BEGIN:VEVENT
DTSTART;TZID=America/Toronto:20240524T200000
DTEND;TZID=America/Toronto:20240524T210000
DTSTAMP:20260425T073149
CREATED:20230109T013033Z
LAST-MODIFIED:20230205T152719Z
UID:10000648-1716580800-1716584400@cgicanada.org
SUMMARY:Toronto 8 pm Sabbath Evening Prayer
DESCRIPTION:For Information … Contact Ken Allen <ken.allen@cgicanada.org>
URL:https://cgicanada.org/event/toronto-8-pm-sabbath-evening-prayer-12/2024-05-24/
CATEGORIES:Outreach
ATTACH;FMTTYPE=image/jpeg:https://cgicanada.org/wp-content/uploads/2022/11/Forest.jpg
END:VEVENT
BEGIN:VEVENT
DTSTART;TZID=America/Toronto:20240528T120000
DTEND;TZID=America/Toronto:20240528T130000
DTSTAMP:20260425T073149
CREATED:20230109T012141Z
LAST-MODIFIED:20230206T204204Z
UID:10001171-1716897600-1716901200@cgicanada.org
SUMMARY:Prove All Things (Live Webcast)
DESCRIPTION:https://cgi.online.church/
URL:https://cgicanada.org/event/prove-all-things-live-webcast/2024-05-28/
CATEGORIES:Outreach
ATTACH;FMTTYPE=image/jpeg:https://cgicanada.org/wp-content/uploads/2022/11/Prove.jpg
END:VEVENT
BEGIN:VEVENT
DTSTART;TZID=America/Toronto:20240529T193000
DTEND;TZID=America/Toronto:20240529T203000
DTSTAMP:20260425T073149
CREATED:20230109T012544Z
LAST-MODIFIED:20230205T153130Z
UID:10000910-1717011000-1717014600@cgicanada.org
SUMMARY:Line Upon Line Bible Study
DESCRIPTION:https://rumble.com/c/c-1359686
URL:https://cgicanada.org/event/line-upon-line-bible-study-11/2024-05-29/
CATEGORIES:Outreach
ATTACH;FMTTYPE=image/jpeg:https://cgicanada.org/wp-content/uploads/2022/12/Line2.jpg
END:VEVENT
BEGIN:VEVENT
DTSTART;TZID=America/Toronto:20240531T200000
DTEND;TZID=America/Toronto:20240531T210000
DTSTAMP:20260425T073149
CREATED:20230109T013033Z
LAST-MODIFIED:20230205T152719Z
UID:10000649-1717185600-1717189200@cgicanada.org
SUMMARY:Toronto 8 pm Sabbath Evening Prayer
DESCRIPTION:For Information … Contact Ken Allen <ken.allen@cgicanada.org>
URL:https://cgicanada.org/event/toronto-8-pm-sabbath-evening-prayer-12/2024-05-31/
CATEGORIES:Outreach
ATTACH;FMTTYPE=image/jpeg:https://cgicanada.org/wp-content/uploads/2022/11/Forest.jpg
END:VEVENT
END:VCALENDAR