BEGIN:VCALENDAR
VERSION:2.0
PRODID:-//Church of God International, Canada - ECPv6.15.20//NONSGML v1.0//EN
CALSCALE:GREGORIAN
METHOD:PUBLISH
X-ORIGINAL-URL:https://cgicanada.org
X-WR-CALDESC:Events for Church of God International, Canada
REFRESH-INTERVAL;VALUE=DURATION:PT1H
X-Robots-Tag:noindex
X-PUBLISHED-TTL:PT1H
BEGIN:VTIMEZONE
TZID:America/Toronto
BEGIN:DAYLIGHT
TZOFFSETFROM:-0500
TZOFFSETTO:-0400
TZNAME:EDT
DTSTART:20240310T070000
END:DAYLIGHT
BEGIN:STANDARD
TZOFFSETFROM:-0400
TZOFFSETTO:-0500
TZNAME:EST
DTSTART:20241103T060000
END:STANDARD
BEGIN:DAYLIGHT
TZOFFSETFROM:-0500
TZOFFSETTO:-0400
TZNAME:EDT
DTSTART:20250309T070000
END:DAYLIGHT
BEGIN:STANDARD
TZOFFSETFROM:-0400
TZOFFSETTO:-0500
TZNAME:EST
DTSTART:20251102T060000
END:STANDARD
BEGIN:DAYLIGHT
TZOFFSETFROM:-0500
TZOFFSETTO:-0400
TZNAME:EDT
DTSTART:20260308T070000
END:DAYLIGHT
BEGIN:STANDARD
TZOFFSETFROM:-0400
TZOFFSETTO:-0500
TZNAME:EST
DTSTART:20261101T060000
END:STANDARD
END:VTIMEZONE
BEGIN:VEVENT
DTSTART;TZID=America/Toronto:20250101T193000
DTEND;TZID=America/Toronto:20250101T203000
DTSTAMP:20260424T143042
CREATED:20230109T012544Z
LAST-MODIFIED:20230205T153130Z
UID:10000941-1735759800-1735763400@cgicanada.org
SUMMARY:Line Upon Line Bible Study
DESCRIPTION:https://rumble.com/c/c-1359686
URL:https://cgicanada.org/event/line-upon-line-bible-study-11/2025-01-01/
CATEGORIES:Outreach
ATTACH;FMTTYPE=image/jpeg:https://cgicanada.org/wp-content/uploads/2022/12/Line2.jpg
END:VEVENT
BEGIN:VEVENT
DTSTART;TZID=America/Toronto:20250103T200000
DTEND;TZID=America/Toronto:20250103T210000
DTSTAMP:20260424T143042
CREATED:20230109T013033Z
LAST-MODIFIED:20230205T152719Z
UID:10000680-1735934400-1735938000@cgicanada.org
SUMMARY:Toronto 8 pm Sabbath Evening Prayer
DESCRIPTION:For Information … Contact Ken Allen <ken.allen@cgicanada.org>
URL:https://cgicanada.org/event/toronto-8-pm-sabbath-evening-prayer-12/2025-01-03/
CATEGORIES:Outreach
ATTACH;FMTTYPE=image/jpeg:https://cgicanada.org/wp-content/uploads/2022/11/Forest.jpg
END:VEVENT
BEGIN:VEVENT
DTSTART;TZID=America/Toronto:20250107T120000
DTEND;TZID=America/Toronto:20250107T130000
DTSTAMP:20260424T143042
CREATED:20230109T012141Z
LAST-MODIFIED:20230206T204204Z
UID:10001203-1736251200-1736254800@cgicanada.org
SUMMARY:Prove All Things (Live Webcast)
DESCRIPTION:https://cgi.online.church/
URL:https://cgicanada.org/event/prove-all-things-live-webcast/2025-01-07/
CATEGORIES:Outreach
ATTACH;FMTTYPE=image/jpeg:https://cgicanada.org/wp-content/uploads/2022/11/Prove.jpg
END:VEVENT
BEGIN:VEVENT
DTSTART;TZID=America/Toronto:20250108T193000
DTEND;TZID=America/Toronto:20250108T203000
DTSTAMP:20260424T143042
CREATED:20230109T012544Z
LAST-MODIFIED:20230205T153130Z
UID:10000942-1736364600-1736368200@cgicanada.org
SUMMARY:Line Upon Line Bible Study
DESCRIPTION:https://rumble.com/c/c-1359686
URL:https://cgicanada.org/event/line-upon-line-bible-study-11/2025-01-08/
CATEGORIES:Outreach
ATTACH;FMTTYPE=image/jpeg:https://cgicanada.org/wp-content/uploads/2022/12/Line2.jpg
END:VEVENT
BEGIN:VEVENT
DTSTART;TZID=America/Toronto:20250110T200000
DTEND;TZID=America/Toronto:20250110T210000
DTSTAMP:20260424T143042
CREATED:20230109T013033Z
LAST-MODIFIED:20230205T152719Z
UID:10000681-1736539200-1736542800@cgicanada.org
SUMMARY:Toronto 8 pm Sabbath Evening Prayer
DESCRIPTION:For Information … Contact Ken Allen <ken.allen@cgicanada.org>
URL:https://cgicanada.org/event/toronto-8-pm-sabbath-evening-prayer-12/2025-01-10/
CATEGORIES:Outreach
ATTACH;FMTTYPE=image/jpeg:https://cgicanada.org/wp-content/uploads/2022/11/Forest.jpg
END:VEVENT
BEGIN:VEVENT
DTSTART;TZID=America/Toronto:20250114T120000
DTEND;TZID=America/Toronto:20250114T130000
DTSTAMP:20260424T143042
CREATED:20230109T012141Z
LAST-MODIFIED:20230206T204204Z
UID:10001204-1736856000-1736859600@cgicanada.org
SUMMARY:Prove All Things (Live Webcast)
DESCRIPTION:https://cgi.online.church/
URL:https://cgicanada.org/event/prove-all-things-live-webcast/2025-01-14/
CATEGORIES:Outreach
ATTACH;FMTTYPE=image/jpeg:https://cgicanada.org/wp-content/uploads/2022/11/Prove.jpg
END:VEVENT
BEGIN:VEVENT
DTSTART;TZID=America/Toronto:20250115T193000
DTEND;TZID=America/Toronto:20250115T203000
DTSTAMP:20260424T143042
CREATED:20230109T012544Z
LAST-MODIFIED:20230205T153130Z
UID:10000943-1736969400-1736973000@cgicanada.org
SUMMARY:Line Upon Line Bible Study
DESCRIPTION:https://rumble.com/c/c-1359686
URL:https://cgicanada.org/event/line-upon-line-bible-study-11/2025-01-15/
CATEGORIES:Outreach
ATTACH;FMTTYPE=image/jpeg:https://cgicanada.org/wp-content/uploads/2022/12/Line2.jpg
END:VEVENT
BEGIN:VEVENT
DTSTART;TZID=America/Toronto:20250117T200000
DTEND;TZID=America/Toronto:20250117T210000
DTSTAMP:20260424T143042
CREATED:20230109T013033Z
LAST-MODIFIED:20230205T152719Z
UID:10000682-1737144000-1737147600@cgicanada.org
SUMMARY:Toronto 8 pm Sabbath Evening Prayer
DESCRIPTION:For Information … Contact Ken Allen <ken.allen@cgicanada.org>
URL:https://cgicanada.org/event/toronto-8-pm-sabbath-evening-prayer-12/2025-01-17/
CATEGORIES:Outreach
ATTACH;FMTTYPE=image/jpeg:https://cgicanada.org/wp-content/uploads/2022/11/Forest.jpg
END:VEVENT
BEGIN:VEVENT
DTSTART;TZID=America/Toronto:20250121T120000
DTEND;TZID=America/Toronto:20250121T130000
DTSTAMP:20260424T143042
CREATED:20230109T012141Z
LAST-MODIFIED:20230206T204204Z
UID:10001205-1737460800-1737464400@cgicanada.org
SUMMARY:Prove All Things (Live Webcast)
DESCRIPTION:https://cgi.online.church/
URL:https://cgicanada.org/event/prove-all-things-live-webcast/2025-01-21/
CATEGORIES:Outreach
ATTACH;FMTTYPE=image/jpeg:https://cgicanada.org/wp-content/uploads/2022/11/Prove.jpg
END:VEVENT
BEGIN:VEVENT
DTSTART;TZID=America/Toronto:20250122T193000
DTEND;TZID=America/Toronto:20250122T203000
DTSTAMP:20260424T143042
CREATED:20230109T012544Z
LAST-MODIFIED:20230205T153130Z
UID:10000944-1737574200-1737577800@cgicanada.org
SUMMARY:Line Upon Line Bible Study
DESCRIPTION:https://rumble.com/c/c-1359686
URL:https://cgicanada.org/event/line-upon-line-bible-study-11/2025-01-22/
CATEGORIES:Outreach
ATTACH;FMTTYPE=image/jpeg:https://cgicanada.org/wp-content/uploads/2022/12/Line2.jpg
END:VEVENT
BEGIN:VEVENT
DTSTART;TZID=America/Toronto:20250124T200000
DTEND;TZID=America/Toronto:20250124T210000
DTSTAMP:20260424T143042
CREATED:20230109T013033Z
LAST-MODIFIED:20230205T152719Z
UID:10000683-1737748800-1737752400@cgicanada.org
SUMMARY:Toronto 8 pm Sabbath Evening Prayer
DESCRIPTION:For Information … Contact Ken Allen <ken.allen@cgicanada.org>
URL:https://cgicanada.org/event/toronto-8-pm-sabbath-evening-prayer-12/2025-01-24/
CATEGORIES:Outreach
ATTACH;FMTTYPE=image/jpeg:https://cgicanada.org/wp-content/uploads/2022/11/Forest.jpg
END:VEVENT
BEGIN:VEVENT
DTSTART;TZID=America/Toronto:20250128T120000
DTEND;TZID=America/Toronto:20250128T130000
DTSTAMP:20260424T143042
CREATED:20230109T012141Z
LAST-MODIFIED:20230206T204204Z
UID:10001206-1738065600-1738069200@cgicanada.org
SUMMARY:Prove All Things (Live Webcast)
DESCRIPTION:https://cgi.online.church/
URL:https://cgicanada.org/event/prove-all-things-live-webcast/2025-01-28/
CATEGORIES:Outreach
ATTACH;FMTTYPE=image/jpeg:https://cgicanada.org/wp-content/uploads/2022/11/Prove.jpg
END:VEVENT
BEGIN:VEVENT
DTSTART;TZID=America/Toronto:20250129T193000
DTEND;TZID=America/Toronto:20250129T203000
DTSTAMP:20260424T143042
CREATED:20230109T012544Z
LAST-MODIFIED:20230205T153130Z
UID:10000945-1738179000-1738182600@cgicanada.org
SUMMARY:Line Upon Line Bible Study
DESCRIPTION:https://rumble.com/c/c-1359686
URL:https://cgicanada.org/event/line-upon-line-bible-study-11/2025-01-29/
CATEGORIES:Outreach
ATTACH;FMTTYPE=image/jpeg:https://cgicanada.org/wp-content/uploads/2022/12/Line2.jpg
END:VEVENT
BEGIN:VEVENT
DTSTART;TZID=America/Toronto:20250131T200000
DTEND;TZID=America/Toronto:20250131T210000
DTSTAMP:20260424T143042
CREATED:20230109T013033Z
LAST-MODIFIED:20230205T152719Z
UID:10000684-1738353600-1738357200@cgicanada.org
SUMMARY:Toronto 8 pm Sabbath Evening Prayer
DESCRIPTION:For Information … Contact Ken Allen <ken.allen@cgicanada.org>
URL:https://cgicanada.org/event/toronto-8-pm-sabbath-evening-prayer-12/2025-01-31/
CATEGORIES:Outreach
ATTACH;FMTTYPE=image/jpeg:https://cgicanada.org/wp-content/uploads/2022/11/Forest.jpg
END:VEVENT
END:VCALENDAR