BEGIN:VCALENDAR
VERSION:2.0
PRODID:-//Church of God International, Canada - ECPv6.15.20//NONSGML v1.0//EN
CALSCALE:GREGORIAN
METHOD:PUBLISH
X-ORIGINAL-URL:https://cgicanada.org
X-WR-CALDESC:Events for Church of God International, Canada
REFRESH-INTERVAL;VALUE=DURATION:PT1H
X-Robots-Tag:noindex
X-PUBLISHED-TTL:PT1H
BEGIN:VTIMEZONE
TZID:America/Toronto
BEGIN:DAYLIGHT
TZOFFSETFROM:-0500
TZOFFSETTO:-0400
TZNAME:EDT
DTSTART:20240310T070000
END:DAYLIGHT
BEGIN:STANDARD
TZOFFSETFROM:-0400
TZOFFSETTO:-0500
TZNAME:EST
DTSTART:20241103T060000
END:STANDARD
BEGIN:DAYLIGHT
TZOFFSETFROM:-0500
TZOFFSETTO:-0400
TZNAME:EDT
DTSTART:20250309T070000
END:DAYLIGHT
BEGIN:STANDARD
TZOFFSETFROM:-0400
TZOFFSETTO:-0500
TZNAME:EST
DTSTART:20251102T060000
END:STANDARD
BEGIN:DAYLIGHT
TZOFFSETFROM:-0500
TZOFFSETTO:-0400
TZNAME:EDT
DTSTART:20260308T070000
END:DAYLIGHT
BEGIN:STANDARD
TZOFFSETFROM:-0400
TZOFFSETTO:-0500
TZNAME:EST
DTSTART:20261101T060000
END:STANDARD
END:VTIMEZONE
BEGIN:VEVENT
DTSTART;TZID=America/Toronto:20250204T120000
DTEND;TZID=America/Toronto:20250204T130000
DTSTAMP:20260424T102452
CREATED:20230109T012141Z
LAST-MODIFIED:20230206T204204Z
UID:10001207-1738670400-1738674000@cgicanada.org
SUMMARY:Prove All Things (Live Webcast)
DESCRIPTION:https://cgi.online.church/
URL:https://cgicanada.org/event/prove-all-things-live-webcast/2025-02-04/
CATEGORIES:Outreach
ATTACH;FMTTYPE=image/jpeg:https://cgicanada.org/wp-content/uploads/2022/11/Prove.jpg
END:VEVENT
BEGIN:VEVENT
DTSTART;TZID=America/Toronto:20250205T193000
DTEND;TZID=America/Toronto:20250205T203000
DTSTAMP:20260424T102452
CREATED:20230109T012544Z
LAST-MODIFIED:20230205T153130Z
UID:10000946-1738783800-1738787400@cgicanada.org
SUMMARY:Line Upon Line Bible Study
DESCRIPTION:https://rumble.com/c/c-1359686
URL:https://cgicanada.org/event/line-upon-line-bible-study-11/2025-02-05/
CATEGORIES:Outreach
ATTACH;FMTTYPE=image/jpeg:https://cgicanada.org/wp-content/uploads/2022/12/Line2.jpg
END:VEVENT
BEGIN:VEVENT
DTSTART;TZID=America/Toronto:20250207T200000
DTEND;TZID=America/Toronto:20250207T210000
DTSTAMP:20260424T102452
CREATED:20230109T013033Z
LAST-MODIFIED:20230205T152719Z
UID:10000685-1738958400-1738962000@cgicanada.org
SUMMARY:Toronto 8 pm Sabbath Evening Prayer
DESCRIPTION:For Information … Contact Ken Allen <ken.allen@cgicanada.org>
URL:https://cgicanada.org/event/toronto-8-pm-sabbath-evening-prayer-12/2025-02-07/
CATEGORIES:Outreach
ATTACH;FMTTYPE=image/jpeg:https://cgicanada.org/wp-content/uploads/2022/11/Forest.jpg
END:VEVENT
BEGIN:VEVENT
DTSTART;TZID=America/Toronto:20250211T120000
DTEND;TZID=America/Toronto:20250211T130000
DTSTAMP:20260424T102452
CREATED:20230109T012141Z
LAST-MODIFIED:20230206T204204Z
UID:10001208-1739275200-1739278800@cgicanada.org
SUMMARY:Prove All Things (Live Webcast)
DESCRIPTION:https://cgi.online.church/
URL:https://cgicanada.org/event/prove-all-things-live-webcast/2025-02-11/
CATEGORIES:Outreach
ATTACH;FMTTYPE=image/jpeg:https://cgicanada.org/wp-content/uploads/2022/11/Prove.jpg
END:VEVENT
BEGIN:VEVENT
DTSTART;TZID=America/Toronto:20250212T193000
DTEND;TZID=America/Toronto:20250212T203000
DTSTAMP:20260424T102452
CREATED:20230109T012544Z
LAST-MODIFIED:20230205T153130Z
UID:10000947-1739388600-1739392200@cgicanada.org
SUMMARY:Line Upon Line Bible Study
DESCRIPTION:https://rumble.com/c/c-1359686
URL:https://cgicanada.org/event/line-upon-line-bible-study-11/2025-02-12/
CATEGORIES:Outreach
ATTACH;FMTTYPE=image/jpeg:https://cgicanada.org/wp-content/uploads/2022/12/Line2.jpg
END:VEVENT
BEGIN:VEVENT
DTSTART;TZID=America/Toronto:20250214T200000
DTEND;TZID=America/Toronto:20250214T210000
DTSTAMP:20260424T102452
CREATED:20230109T013033Z
LAST-MODIFIED:20230205T152719Z
UID:10000686-1739563200-1739566800@cgicanada.org
SUMMARY:Toronto 8 pm Sabbath Evening Prayer
DESCRIPTION:For Information … Contact Ken Allen <ken.allen@cgicanada.org>
URL:https://cgicanada.org/event/toronto-8-pm-sabbath-evening-prayer-12/2025-02-14/
CATEGORIES:Outreach
ATTACH;FMTTYPE=image/jpeg:https://cgicanada.org/wp-content/uploads/2022/11/Forest.jpg
END:VEVENT
BEGIN:VEVENT
DTSTART;TZID=America/Toronto:20250218T120000
DTEND;TZID=America/Toronto:20250218T130000
DTSTAMP:20260424T102452
CREATED:20230109T012141Z
LAST-MODIFIED:20230206T204204Z
UID:10001209-1739880000-1739883600@cgicanada.org
SUMMARY:Prove All Things (Live Webcast)
DESCRIPTION:https://cgi.online.church/
URL:https://cgicanada.org/event/prove-all-things-live-webcast/2025-02-18/
CATEGORIES:Outreach
ATTACH;FMTTYPE=image/jpeg:https://cgicanada.org/wp-content/uploads/2022/11/Prove.jpg
END:VEVENT
BEGIN:VEVENT
DTSTART;TZID=America/Toronto:20250219T193000
DTEND;TZID=America/Toronto:20250219T203000
DTSTAMP:20260424T102452
CREATED:20230109T012544Z
LAST-MODIFIED:20230205T153130Z
UID:10000948-1739993400-1739997000@cgicanada.org
SUMMARY:Line Upon Line Bible Study
DESCRIPTION:https://rumble.com/c/c-1359686
URL:https://cgicanada.org/event/line-upon-line-bible-study-11/2025-02-19/
CATEGORIES:Outreach
ATTACH;FMTTYPE=image/jpeg:https://cgicanada.org/wp-content/uploads/2022/12/Line2.jpg
END:VEVENT
BEGIN:VEVENT
DTSTART;TZID=America/Toronto:20250221T200000
DTEND;TZID=America/Toronto:20250221T210000
DTSTAMP:20260424T102452
CREATED:20230109T013033Z
LAST-MODIFIED:20230205T152719Z
UID:10000687-1740168000-1740171600@cgicanada.org
SUMMARY:Toronto 8 pm Sabbath Evening Prayer
DESCRIPTION:For Information … Contact Ken Allen <ken.allen@cgicanada.org>
URL:https://cgicanada.org/event/toronto-8-pm-sabbath-evening-prayer-12/2025-02-21/
CATEGORIES:Outreach
ATTACH;FMTTYPE=image/jpeg:https://cgicanada.org/wp-content/uploads/2022/11/Forest.jpg
END:VEVENT
BEGIN:VEVENT
DTSTART;TZID=America/Toronto:20250225T120000
DTEND;TZID=America/Toronto:20250225T130000
DTSTAMP:20260424T102452
CREATED:20230109T012141Z
LAST-MODIFIED:20230206T204204Z
UID:10001210-1740484800-1740488400@cgicanada.org
SUMMARY:Prove All Things (Live Webcast)
DESCRIPTION:https://cgi.online.church/
URL:https://cgicanada.org/event/prove-all-things-live-webcast/2025-02-25/
CATEGORIES:Outreach
ATTACH;FMTTYPE=image/jpeg:https://cgicanada.org/wp-content/uploads/2022/11/Prove.jpg
END:VEVENT
BEGIN:VEVENT
DTSTART;TZID=America/Toronto:20250226T193000
DTEND;TZID=America/Toronto:20250226T203000
DTSTAMP:20260424T102452
CREATED:20230109T012544Z
LAST-MODIFIED:20230205T153130Z
UID:10000949-1740598200-1740601800@cgicanada.org
SUMMARY:Line Upon Line Bible Study
DESCRIPTION:https://rumble.com/c/c-1359686
URL:https://cgicanada.org/event/line-upon-line-bible-study-11/2025-02-26/
CATEGORIES:Outreach
ATTACH;FMTTYPE=image/jpeg:https://cgicanada.org/wp-content/uploads/2022/12/Line2.jpg
END:VEVENT
BEGIN:VEVENT
DTSTART;TZID=America/Toronto:20250228T200000
DTEND;TZID=America/Toronto:20250228T210000
DTSTAMP:20260424T102452
CREATED:20230109T013033Z
LAST-MODIFIED:20230205T152719Z
UID:10000688-1740772800-1740776400@cgicanada.org
SUMMARY:Toronto 8 pm Sabbath Evening Prayer
DESCRIPTION:For Information … Contact Ken Allen <ken.allen@cgicanada.org>
URL:https://cgicanada.org/event/toronto-8-pm-sabbath-evening-prayer-12/2025-02-28/
CATEGORIES:Outreach
ATTACH;FMTTYPE=image/jpeg:https://cgicanada.org/wp-content/uploads/2022/11/Forest.jpg
END:VEVENT
END:VCALENDAR