BEGIN:VCALENDAR
VERSION:2.0
PRODID:-//Church of God International, Canada - ECPv6.15.20//NONSGML v1.0//EN
CALSCALE:GREGORIAN
METHOD:PUBLISH
X-WR-CALNAME:Church of God International, Canada
X-ORIGINAL-URL:https://cgicanada.org
X-WR-CALDESC:Events for Church of God International, Canada
REFRESH-INTERVAL;VALUE=DURATION:PT1H
X-Robots-Tag:noindex
X-PUBLISHED-TTL:PT1H
BEGIN:VTIMEZONE
TZID:America/Toronto
BEGIN:DAYLIGHT
TZOFFSETFROM:-0500
TZOFFSETTO:-0400
TZNAME:EDT
DTSTART:20240310T070000
END:DAYLIGHT
BEGIN:STANDARD
TZOFFSETFROM:-0400
TZOFFSETTO:-0500
TZNAME:EST
DTSTART:20241103T060000
END:STANDARD
BEGIN:DAYLIGHT
TZOFFSETFROM:-0500
TZOFFSETTO:-0400
TZNAME:EDT
DTSTART:20250309T070000
END:DAYLIGHT
BEGIN:STANDARD
TZOFFSETFROM:-0400
TZOFFSETTO:-0500
TZNAME:EST
DTSTART:20251102T060000
END:STANDARD
BEGIN:DAYLIGHT
TZOFFSETFROM:-0500
TZOFFSETTO:-0400
TZNAME:EDT
DTSTART:20260308T070000
END:DAYLIGHT
BEGIN:STANDARD
TZOFFSETFROM:-0400
TZOFFSETTO:-0500
TZNAME:EST
DTSTART:20261101T060000
END:STANDARD
END:VTIMEZONE
BEGIN:VEVENT
DTSTART;TZID=America/Toronto:20250801T200000
DTEND;TZID=America/Toronto:20250801T210000
DTSTAMP:20260423T155527
CREATED:20230109T013033Z
LAST-MODIFIED:20230205T152719Z
UID:10000710-1754078400-1754082000@cgicanada.org
SUMMARY:Toronto 8 pm Sabbath Evening Prayer
DESCRIPTION:For Information … Contact Ken Allen <ken.allen@cgicanada.org>
URL:https://cgicanada.org/event/toronto-8-pm-sabbath-evening-prayer-12/2025-08-01/
CATEGORIES:Outreach
ATTACH;FMTTYPE=image/jpeg:https://cgicanada.org/wp-content/uploads/2022/11/Forest.jpg
END:VEVENT
BEGIN:VEVENT
DTSTART;TZID=America/Toronto:20250805T120000
DTEND;TZID=America/Toronto:20250805T130000
DTSTAMP:20260423T155527
CREATED:20230109T012141Z
LAST-MODIFIED:20230206T204204Z
UID:10001233-1754395200-1754398800@cgicanada.org
SUMMARY:Prove All Things (Live Webcast)
DESCRIPTION:https://cgi.online.church/
URL:https://cgicanada.org/event/prove-all-things-live-webcast/2025-08-05/
CATEGORIES:Outreach
ATTACH;FMTTYPE=image/jpeg:https://cgicanada.org/wp-content/uploads/2022/11/Prove.jpg
END:VEVENT
BEGIN:VEVENT
DTSTART;TZID=America/Toronto:20250806T193000
DTEND;TZID=America/Toronto:20250806T203000
DTSTAMP:20260423T155527
CREATED:20230109T012544Z
LAST-MODIFIED:20230205T153130Z
UID:10000972-1754508600-1754512200@cgicanada.org
SUMMARY:Line Upon Line Bible Study
DESCRIPTION:https://rumble.com/c/c-1359686
URL:https://cgicanada.org/event/line-upon-line-bible-study-11/2025-08-06/
CATEGORIES:Outreach
ATTACH;FMTTYPE=image/jpeg:https://cgicanada.org/wp-content/uploads/2022/12/Line2.jpg
END:VEVENT
BEGIN:VEVENT
DTSTART;TZID=America/Toronto:20250808T200000
DTEND;TZID=America/Toronto:20250808T210000
DTSTAMP:20260423T155527
CREATED:20230109T013033Z
LAST-MODIFIED:20230205T152719Z
UID:10000711-1754683200-1754686800@cgicanada.org
SUMMARY:Toronto 8 pm Sabbath Evening Prayer
DESCRIPTION:For Information … Contact Ken Allen <ken.allen@cgicanada.org>
URL:https://cgicanada.org/event/toronto-8-pm-sabbath-evening-prayer-12/2025-08-08/
CATEGORIES:Outreach
ATTACH;FMTTYPE=image/jpeg:https://cgicanada.org/wp-content/uploads/2022/11/Forest.jpg
END:VEVENT
BEGIN:VEVENT
DTSTART;TZID=America/Toronto:20250812T120000
DTEND;TZID=America/Toronto:20250812T130000
DTSTAMP:20260423T155527
CREATED:20230109T012141Z
LAST-MODIFIED:20230206T204204Z
UID:10001234-1755000000-1755003600@cgicanada.org
SUMMARY:Prove All Things (Live Webcast)
DESCRIPTION:https://cgi.online.church/
URL:https://cgicanada.org/event/prove-all-things-live-webcast/2025-08-12/
CATEGORIES:Outreach
ATTACH;FMTTYPE=image/jpeg:https://cgicanada.org/wp-content/uploads/2022/11/Prove.jpg
END:VEVENT
BEGIN:VEVENT
DTSTART;TZID=America/Toronto:20250813T193000
DTEND;TZID=America/Toronto:20250813T203000
DTSTAMP:20260423T155527
CREATED:20230109T012544Z
LAST-MODIFIED:20230205T153130Z
UID:10000973-1755113400-1755117000@cgicanada.org
SUMMARY:Line Upon Line Bible Study
DESCRIPTION:https://rumble.com/c/c-1359686
URL:https://cgicanada.org/event/line-upon-line-bible-study-11/2025-08-13/
CATEGORIES:Outreach
ATTACH;FMTTYPE=image/jpeg:https://cgicanada.org/wp-content/uploads/2022/12/Line2.jpg
END:VEVENT
BEGIN:VEVENT
DTSTART;TZID=America/Toronto:20250815T200000
DTEND;TZID=America/Toronto:20250815T210000
DTSTAMP:20260423T155527
CREATED:20230109T013033Z
LAST-MODIFIED:20230205T152719Z
UID:10000712-1755288000-1755291600@cgicanada.org
SUMMARY:Toronto 8 pm Sabbath Evening Prayer
DESCRIPTION:For Information … Contact Ken Allen <ken.allen@cgicanada.org>
URL:https://cgicanada.org/event/toronto-8-pm-sabbath-evening-prayer-12/2025-08-15/
CATEGORIES:Outreach
ATTACH;FMTTYPE=image/jpeg:https://cgicanada.org/wp-content/uploads/2022/11/Forest.jpg
END:VEVENT
BEGIN:VEVENT
DTSTART;TZID=America/Toronto:20250819T120000
DTEND;TZID=America/Toronto:20250819T130000
DTSTAMP:20260423T155527
CREATED:20230109T012141Z
LAST-MODIFIED:20230206T204204Z
UID:10001235-1755604800-1755608400@cgicanada.org
SUMMARY:Prove All Things (Live Webcast)
DESCRIPTION:https://cgi.online.church/
URL:https://cgicanada.org/event/prove-all-things-live-webcast/2025-08-19/
CATEGORIES:Outreach
ATTACH;FMTTYPE=image/jpeg:https://cgicanada.org/wp-content/uploads/2022/11/Prove.jpg
END:VEVENT
BEGIN:VEVENT
DTSTART;TZID=America/Toronto:20250820T193000
DTEND;TZID=America/Toronto:20250820T203000
DTSTAMP:20260423T155527
CREATED:20230109T012544Z
LAST-MODIFIED:20230205T153130Z
UID:10000974-1755718200-1755721800@cgicanada.org
SUMMARY:Line Upon Line Bible Study
DESCRIPTION:https://rumble.com/c/c-1359686
URL:https://cgicanada.org/event/line-upon-line-bible-study-11/2025-08-20/
CATEGORIES:Outreach
ATTACH;FMTTYPE=image/jpeg:https://cgicanada.org/wp-content/uploads/2022/12/Line2.jpg
END:VEVENT
BEGIN:VEVENT
DTSTART;TZID=America/Toronto:20250822T200000
DTEND;TZID=America/Toronto:20250822T210000
DTSTAMP:20260423T155527
CREATED:20230109T013033Z
LAST-MODIFIED:20230205T152719Z
UID:10000713-1755892800-1755896400@cgicanada.org
SUMMARY:Toronto 8 pm Sabbath Evening Prayer
DESCRIPTION:For Information … Contact Ken Allen <ken.allen@cgicanada.org>
URL:https://cgicanada.org/event/toronto-8-pm-sabbath-evening-prayer-12/2025-08-22/
CATEGORIES:Outreach
ATTACH;FMTTYPE=image/jpeg:https://cgicanada.org/wp-content/uploads/2022/11/Forest.jpg
END:VEVENT
BEGIN:VEVENT
DTSTART;TZID=America/Toronto:20250826T120000
DTEND;TZID=America/Toronto:20250826T130000
DTSTAMP:20260423T155527
CREATED:20230109T012141Z
LAST-MODIFIED:20230206T204204Z
UID:10001236-1756209600-1756213200@cgicanada.org
SUMMARY:Prove All Things (Live Webcast)
DESCRIPTION:https://cgi.online.church/
URL:https://cgicanada.org/event/prove-all-things-live-webcast/2025-08-26/
CATEGORIES:Outreach
ATTACH;FMTTYPE=image/jpeg:https://cgicanada.org/wp-content/uploads/2022/11/Prove.jpg
END:VEVENT
BEGIN:VEVENT
DTSTART;TZID=America/Toronto:20250827T193000
DTEND;TZID=America/Toronto:20250827T203000
DTSTAMP:20260423T155527
CREATED:20230109T012544Z
LAST-MODIFIED:20230205T153130Z
UID:10000975-1756323000-1756326600@cgicanada.org
SUMMARY:Line Upon Line Bible Study
DESCRIPTION:https://rumble.com/c/c-1359686
URL:https://cgicanada.org/event/line-upon-line-bible-study-11/2025-08-27/
CATEGORIES:Outreach
ATTACH;FMTTYPE=image/jpeg:https://cgicanada.org/wp-content/uploads/2022/12/Line2.jpg
END:VEVENT
BEGIN:VEVENT
DTSTART;TZID=America/Toronto:20250829T200000
DTEND;TZID=America/Toronto:20250829T210000
DTSTAMP:20260423T155527
CREATED:20230109T013033Z
LAST-MODIFIED:20230205T152719Z
UID:10000714-1756497600-1756501200@cgicanada.org
SUMMARY:Toronto 8 pm Sabbath Evening Prayer
DESCRIPTION:For Information … Contact Ken Allen <ken.allen@cgicanada.org>
URL:https://cgicanada.org/event/toronto-8-pm-sabbath-evening-prayer-12/2025-08-29/
CATEGORIES:Outreach
ATTACH;FMTTYPE=image/jpeg:https://cgicanada.org/wp-content/uploads/2022/11/Forest.jpg
END:VEVENT
END:VCALENDAR