BEGIN:VCALENDAR
VERSION:2.0
PRODID:-//Church of God International, Canada - ECPv6.15.20//NONSGML v1.0//EN
CALSCALE:GREGORIAN
METHOD:PUBLISH
X-ORIGINAL-URL:https://cgicanada.org
X-WR-CALDESC:Events for Church of God International, Canada
REFRESH-INTERVAL;VALUE=DURATION:PT1H
X-Robots-Tag:noindex
X-PUBLISHED-TTL:PT1H
BEGIN:VTIMEZONE
TZID:America/Toronto
BEGIN:DAYLIGHT
TZOFFSETFROM:-0500
TZOFFSETTO:-0400
TZNAME:EDT
DTSTART:20240310T070000
END:DAYLIGHT
BEGIN:STANDARD
TZOFFSETFROM:-0400
TZOFFSETTO:-0500
TZNAME:EST
DTSTART:20241103T060000
END:STANDARD
BEGIN:DAYLIGHT
TZOFFSETFROM:-0500
TZOFFSETTO:-0400
TZNAME:EDT
DTSTART:20250309T070000
END:DAYLIGHT
BEGIN:STANDARD
TZOFFSETFROM:-0400
TZOFFSETTO:-0500
TZNAME:EST
DTSTART:20251102T060000
END:STANDARD
BEGIN:DAYLIGHT
TZOFFSETFROM:-0500
TZOFFSETTO:-0400
TZNAME:EDT
DTSTART:20260308T070000
END:DAYLIGHT
BEGIN:STANDARD
TZOFFSETFROM:-0400
TZOFFSETTO:-0500
TZNAME:EST
DTSTART:20261101T060000
END:STANDARD
END:VTIMEZONE
BEGIN:VEVENT
DTSTART;TZID=America/Toronto:20251001T193000
DTEND;TZID=America/Toronto:20251001T203000
DTSTAMP:20260423T113849
CREATED:20230109T012544Z
LAST-MODIFIED:20230205T153130Z
UID:10000980-1759347000-1759350600@cgicanada.org
SUMMARY:Line Upon Line Bible Study
DESCRIPTION:https://rumble.com/c/c-1359686
URL:https://cgicanada.org/event/line-upon-line-bible-study-11/2025-10-01/
CATEGORIES:Outreach
ATTACH;FMTTYPE=image/jpeg:https://cgicanada.org/wp-content/uploads/2022/12/Line2.jpg
END:VEVENT
BEGIN:VEVENT
DTSTART;TZID=America/Toronto:20251003T200000
DTEND;TZID=America/Toronto:20251003T210000
DTSTAMP:20260423T113849
CREATED:20230109T013033Z
LAST-MODIFIED:20230205T152719Z
UID:10000719-1759521600-1759525200@cgicanada.org
SUMMARY:Toronto 8 pm Sabbath Evening Prayer
DESCRIPTION:For Information … Contact Ken Allen <ken.allen@cgicanada.org>
URL:https://cgicanada.org/event/toronto-8-pm-sabbath-evening-prayer-12/2025-10-03/
CATEGORIES:Outreach
ATTACH;FMTTYPE=image/jpeg:https://cgicanada.org/wp-content/uploads/2022/11/Forest.jpg
END:VEVENT
BEGIN:VEVENT
DTSTART;TZID=America/Toronto:20251007T120000
DTEND;TZID=America/Toronto:20251007T130000
DTSTAMP:20260423T113849
CREATED:20230109T012141Z
LAST-MODIFIED:20230206T204204Z
UID:10001242-1759838400-1759842000@cgicanada.org
SUMMARY:Prove All Things (Live Webcast)
DESCRIPTION:https://cgi.online.church/
URL:https://cgicanada.org/event/prove-all-things-live-webcast/2025-10-07/
CATEGORIES:Outreach
ATTACH;FMTTYPE=image/jpeg:https://cgicanada.org/wp-content/uploads/2022/11/Prove.jpg
END:VEVENT
BEGIN:VEVENT
DTSTART;TZID=America/Toronto:20251008T193000
DTEND;TZID=America/Toronto:20251008T203000
DTSTAMP:20260423T113849
CREATED:20230109T012544Z
LAST-MODIFIED:20230205T153130Z
UID:10000981-1759951800-1759955400@cgicanada.org
SUMMARY:Line Upon Line Bible Study
DESCRIPTION:https://rumble.com/c/c-1359686
URL:https://cgicanada.org/event/line-upon-line-bible-study-11/2025-10-08/
CATEGORIES:Outreach
ATTACH;FMTTYPE=image/jpeg:https://cgicanada.org/wp-content/uploads/2022/12/Line2.jpg
END:VEVENT
BEGIN:VEVENT
DTSTART;TZID=America/Toronto:20251010T200000
DTEND;TZID=America/Toronto:20251010T210000
DTSTAMP:20260423T113849
CREATED:20230109T013033Z
LAST-MODIFIED:20230205T152719Z
UID:10000720-1760126400-1760130000@cgicanada.org
SUMMARY:Toronto 8 pm Sabbath Evening Prayer
DESCRIPTION:For Information … Contact Ken Allen <ken.allen@cgicanada.org>
URL:https://cgicanada.org/event/toronto-8-pm-sabbath-evening-prayer-12/2025-10-10/
CATEGORIES:Outreach
ATTACH;FMTTYPE=image/jpeg:https://cgicanada.org/wp-content/uploads/2022/11/Forest.jpg
END:VEVENT
BEGIN:VEVENT
DTSTART;TZID=America/Toronto:20251014T120000
DTEND;TZID=America/Toronto:20251014T130000
DTSTAMP:20260423T113849
CREATED:20230109T012141Z
LAST-MODIFIED:20230206T204204Z
UID:10001243-1760443200-1760446800@cgicanada.org
SUMMARY:Prove All Things (Live Webcast)
DESCRIPTION:https://cgi.online.church/
URL:https://cgicanada.org/event/prove-all-things-live-webcast/2025-10-14/
CATEGORIES:Outreach
ATTACH;FMTTYPE=image/jpeg:https://cgicanada.org/wp-content/uploads/2022/11/Prove.jpg
END:VEVENT
BEGIN:VEVENT
DTSTART;TZID=America/Toronto:20251015T193000
DTEND;TZID=America/Toronto:20251015T203000
DTSTAMP:20260423T113849
CREATED:20230109T012544Z
LAST-MODIFIED:20230205T153130Z
UID:10000982-1760556600-1760560200@cgicanada.org
SUMMARY:Line Upon Line Bible Study
DESCRIPTION:https://rumble.com/c/c-1359686
URL:https://cgicanada.org/event/line-upon-line-bible-study-11/2025-10-15/
CATEGORIES:Outreach
ATTACH;FMTTYPE=image/jpeg:https://cgicanada.org/wp-content/uploads/2022/12/Line2.jpg
END:VEVENT
BEGIN:VEVENT
DTSTART;TZID=America/Toronto:20251017T200000
DTEND;TZID=America/Toronto:20251017T210000
DTSTAMP:20260423T113849
CREATED:20230109T013033Z
LAST-MODIFIED:20230205T152719Z
UID:10000721-1760731200-1760734800@cgicanada.org
SUMMARY:Toronto 8 pm Sabbath Evening Prayer
DESCRIPTION:For Information … Contact Ken Allen <ken.allen@cgicanada.org>
URL:https://cgicanada.org/event/toronto-8-pm-sabbath-evening-prayer-12/2025-10-17/
CATEGORIES:Outreach
ATTACH;FMTTYPE=image/jpeg:https://cgicanada.org/wp-content/uploads/2022/11/Forest.jpg
END:VEVENT
BEGIN:VEVENT
DTSTART;TZID=America/Toronto:20251021T120000
DTEND;TZID=America/Toronto:20251021T130000
DTSTAMP:20260423T113849
CREATED:20230109T012141Z
LAST-MODIFIED:20230206T204204Z
UID:10001244-1761048000-1761051600@cgicanada.org
SUMMARY:Prove All Things (Live Webcast)
DESCRIPTION:https://cgi.online.church/
URL:https://cgicanada.org/event/prove-all-things-live-webcast/2025-10-21/
CATEGORIES:Outreach
ATTACH;FMTTYPE=image/jpeg:https://cgicanada.org/wp-content/uploads/2022/11/Prove.jpg
END:VEVENT
BEGIN:VEVENT
DTSTART;TZID=America/Toronto:20251022T193000
DTEND;TZID=America/Toronto:20251022T203000
DTSTAMP:20260423T113849
CREATED:20230109T012544Z
LAST-MODIFIED:20230205T153130Z
UID:10000983-1761161400-1761165000@cgicanada.org
SUMMARY:Line Upon Line Bible Study
DESCRIPTION:https://rumble.com/c/c-1359686
URL:https://cgicanada.org/event/line-upon-line-bible-study-11/2025-10-22/
CATEGORIES:Outreach
ATTACH;FMTTYPE=image/jpeg:https://cgicanada.org/wp-content/uploads/2022/12/Line2.jpg
END:VEVENT
BEGIN:VEVENT
DTSTART;TZID=America/Toronto:20251024T200000
DTEND;TZID=America/Toronto:20251024T210000
DTSTAMP:20260423T113849
CREATED:20230109T013033Z
LAST-MODIFIED:20230205T152719Z
UID:10000722-1761336000-1761339600@cgicanada.org
SUMMARY:Toronto 8 pm Sabbath Evening Prayer
DESCRIPTION:For Information … Contact Ken Allen <ken.allen@cgicanada.org>
URL:https://cgicanada.org/event/toronto-8-pm-sabbath-evening-prayer-12/2025-10-24/
CATEGORIES:Outreach
ATTACH;FMTTYPE=image/jpeg:https://cgicanada.org/wp-content/uploads/2022/11/Forest.jpg
END:VEVENT
BEGIN:VEVENT
DTSTART;TZID=America/Toronto:20251028T120000
DTEND;TZID=America/Toronto:20251028T130000
DTSTAMP:20260423T113849
CREATED:20230109T012141Z
LAST-MODIFIED:20230206T204204Z
UID:10001245-1761652800-1761656400@cgicanada.org
SUMMARY:Prove All Things (Live Webcast)
DESCRIPTION:https://cgi.online.church/
URL:https://cgicanada.org/event/prove-all-things-live-webcast/2025-10-28/
CATEGORIES:Outreach
ATTACH;FMTTYPE=image/jpeg:https://cgicanada.org/wp-content/uploads/2022/11/Prove.jpg
END:VEVENT
BEGIN:VEVENT
DTSTART;TZID=America/Toronto:20251029T193000
DTEND;TZID=America/Toronto:20251029T203000
DTSTAMP:20260423T113849
CREATED:20230109T012544Z
LAST-MODIFIED:20230205T153130Z
UID:10000984-1761766200-1761769800@cgicanada.org
SUMMARY:Line Upon Line Bible Study
DESCRIPTION:https://rumble.com/c/c-1359686
URL:https://cgicanada.org/event/line-upon-line-bible-study-11/2025-10-29/
CATEGORIES:Outreach
ATTACH;FMTTYPE=image/jpeg:https://cgicanada.org/wp-content/uploads/2022/12/Line2.jpg
END:VEVENT
BEGIN:VEVENT
DTSTART;TZID=America/Toronto:20251031T200000
DTEND;TZID=America/Toronto:20251031T210000
DTSTAMP:20260423T113849
CREATED:20230109T013033Z
LAST-MODIFIED:20230205T152719Z
UID:10000723-1761940800-1761944400@cgicanada.org
SUMMARY:Toronto 8 pm Sabbath Evening Prayer
DESCRIPTION:For Information … Contact Ken Allen <ken.allen@cgicanada.org>
URL:https://cgicanada.org/event/toronto-8-pm-sabbath-evening-prayer-12/2025-10-31/
CATEGORIES:Outreach
ATTACH;FMTTYPE=image/jpeg:https://cgicanada.org/wp-content/uploads/2022/11/Forest.jpg
END:VEVENT
END:VCALENDAR