BEGIN:VCALENDAR
VERSION:2.0
PRODID:-//Church of God International, Canada - ECPv6.15.20//NONSGML v1.0//EN
CALSCALE:GREGORIAN
METHOD:PUBLISH
X-ORIGINAL-URL:https://cgicanada.org
X-WR-CALDESC:Events for Church of God International, Canada
REFRESH-INTERVAL;VALUE=DURATION:PT1H
X-Robots-Tag:noindex
X-PUBLISHED-TTL:PT1H
BEGIN:VTIMEZONE
TZID:America/Toronto
BEGIN:DAYLIGHT
TZOFFSETFROM:-0500
TZOFFSETTO:-0400
TZNAME:EDT
DTSTART:20230312T070000
END:DAYLIGHT
BEGIN:STANDARD
TZOFFSETFROM:-0400
TZOFFSETTO:-0500
TZNAME:EST
DTSTART:20231105T060000
END:STANDARD
BEGIN:DAYLIGHT
TZOFFSETFROM:-0500
TZOFFSETTO:-0400
TZNAME:EDT
DTSTART:20240310T070000
END:DAYLIGHT
BEGIN:STANDARD
TZOFFSETFROM:-0400
TZOFFSETTO:-0500
TZNAME:EST
DTSTART:20241103T060000
END:STANDARD
BEGIN:DAYLIGHT
TZOFFSETFROM:-0500
TZOFFSETTO:-0400
TZNAME:EDT
DTSTART:20250309T070000
END:DAYLIGHT
BEGIN:STANDARD
TZOFFSETFROM:-0400
TZOFFSETTO:-0500
TZNAME:EST
DTSTART:20251102T060000
END:STANDARD
END:VTIMEZONE
BEGIN:VEVENT
DTSTART;TZID=America/Toronto:20240526T060000
DTEND;TZID=America/Toronto:20240601T070000
DTSTAMP:20260423T101943
CREATED:20230206T211755Z
LAST-MODIFIED:20230206T212129Z
UID:10005144-1716703200-1717225200@cgicanada.org
SUMMARY:Toronto 6AM Morning Prayer
DESCRIPTION:  \nFor Information … Contact Ken Allen <ken.allen@cgicanada.org>
URL:https://cgicanada.org/event/toronto-6am-morning-prayer-2/2024-05-26/
CATEGORIES:Prayer
ATTACH;FMTTYPE=image/jpeg:https://cgicanada.org/wp-content/uploads/2022/12/MorningPrayer-1.jpg
END:VEVENT
BEGIN:VEVENT
DTSTART;TZID=America/Toronto:20240602T060000
DTEND;TZID=America/Toronto:20240608T070000
DTSTAMP:20260423T101943
CREATED:20230206T211755Z
LAST-MODIFIED:20230206T212129Z
UID:10005145-1717308000-1717830000@cgicanada.org
SUMMARY:Toronto 6AM Morning Prayer
DESCRIPTION:  \nFor Information … Contact Ken Allen <ken.allen@cgicanada.org>
URL:https://cgicanada.org/event/toronto-6am-morning-prayer-2/2024-06-02/
CATEGORIES:Prayer
ATTACH;FMTTYPE=image/jpeg:https://cgicanada.org/wp-content/uploads/2022/12/MorningPrayer-1.jpg
END:VEVENT
BEGIN:VEVENT
DTSTART;TZID=America/Toronto:20240609T060000
DTEND;TZID=America/Toronto:20240615T070000
DTSTAMP:20260423T101943
CREATED:20230206T211755Z
LAST-MODIFIED:20230206T212129Z
UID:10005146-1717912800-1718434800@cgicanada.org
SUMMARY:Toronto 6AM Morning Prayer
DESCRIPTION:  \nFor Information … Contact Ken Allen <ken.allen@cgicanada.org>
URL:https://cgicanada.org/event/toronto-6am-morning-prayer-2/2024-06-09/
CATEGORIES:Prayer
ATTACH;FMTTYPE=image/jpeg:https://cgicanada.org/wp-content/uploads/2022/12/MorningPrayer-1.jpg
END:VEVENT
BEGIN:VEVENT
DTSTART;TZID=America/Toronto:20240616T060000
DTEND;TZID=America/Toronto:20240622T070000
DTSTAMP:20260423T101943
CREATED:20230206T211755Z
LAST-MODIFIED:20230206T212129Z
UID:10005147-1718517600-1719039600@cgicanada.org
SUMMARY:Toronto 6AM Morning Prayer
DESCRIPTION:  \nFor Information … Contact Ken Allen <ken.allen@cgicanada.org>
URL:https://cgicanada.org/event/toronto-6am-morning-prayer-2/2024-06-16/
CATEGORIES:Prayer
ATTACH;FMTTYPE=image/jpeg:https://cgicanada.org/wp-content/uploads/2022/12/MorningPrayer-1.jpg
END:VEVENT
BEGIN:VEVENT
DTSTART;TZID=America/Toronto:20240623T060000
DTEND;TZID=America/Toronto:20240629T070000
DTSTAMP:20260423T101943
CREATED:20230206T211755Z
LAST-MODIFIED:20230206T212129Z
UID:10005148-1719122400-1719644400@cgicanada.org
SUMMARY:Toronto 6AM Morning Prayer
DESCRIPTION:  \nFor Information … Contact Ken Allen <ken.allen@cgicanada.org>
URL:https://cgicanada.org/event/toronto-6am-morning-prayer-2/2024-06-23/
CATEGORIES:Prayer
ATTACH;FMTTYPE=image/jpeg:https://cgicanada.org/wp-content/uploads/2022/12/MorningPrayer-1.jpg
END:VEVENT
BEGIN:VEVENT
DTSTART;TZID=America/Toronto:20240630T060000
DTEND;TZID=America/Toronto:20240706T070000
DTSTAMP:20260423T101943
CREATED:20230206T211755Z
LAST-MODIFIED:20230206T212129Z
UID:10005149-1719727200-1720249200@cgicanada.org
SUMMARY:Toronto 6AM Morning Prayer
DESCRIPTION:  \nFor Information … Contact Ken Allen <ken.allen@cgicanada.org>
URL:https://cgicanada.org/event/toronto-6am-morning-prayer-2/2024-06-30/
CATEGORIES:Prayer
ATTACH;FMTTYPE=image/jpeg:https://cgicanada.org/wp-content/uploads/2022/12/MorningPrayer-1.jpg
END:VEVENT
END:VCALENDAR