BEGIN:VCALENDAR
VERSION:2.0
PRODID:-//Church of God International, Canada - ECPv6.15.20//NONSGML v1.0//EN
CALSCALE:GREGORIAN
METHOD:PUBLISH
X-ORIGINAL-URL:https://cgicanada.org
X-WR-CALDESC:Events for Church of God International, Canada
REFRESH-INTERVAL;VALUE=DURATION:PT1H
X-Robots-Tag:noindex
X-PUBLISHED-TTL:PT1H
BEGIN:VTIMEZONE
TZID:America/Toronto
BEGIN:DAYLIGHT
TZOFFSETFROM:-0500
TZOFFSETTO:-0400
TZNAME:EDT
DTSTART:20230312T070000
END:DAYLIGHT
BEGIN:STANDARD
TZOFFSETFROM:-0400
TZOFFSETTO:-0500
TZNAME:EST
DTSTART:20231105T060000
END:STANDARD
BEGIN:DAYLIGHT
TZOFFSETFROM:-0500
TZOFFSETTO:-0400
TZNAME:EDT
DTSTART:20240310T070000
END:DAYLIGHT
BEGIN:STANDARD
TZOFFSETFROM:-0400
TZOFFSETTO:-0500
TZNAME:EST
DTSTART:20241103T060000
END:STANDARD
BEGIN:DAYLIGHT
TZOFFSETFROM:-0500
TZOFFSETTO:-0400
TZNAME:EDT
DTSTART:20250309T070000
END:DAYLIGHT
BEGIN:STANDARD
TZOFFSETFROM:-0400
TZOFFSETTO:-0500
TZNAME:EST
DTSTART:20251102T060000
END:STANDARD
END:VTIMEZONE
BEGIN:VEVENT
DTSTART;TZID=America/Toronto:20240728T060000
DTEND;TZID=America/Toronto:20240803T070000
DTSTAMP:20260423T054228
CREATED:20230206T211755Z
LAST-MODIFIED:20230206T212129Z
UID:10005153-1722146400-1722668400@cgicanada.org
SUMMARY:Toronto 6AM Morning Prayer
DESCRIPTION:  \nFor Information … Contact Ken Allen <ken.allen@cgicanada.org>
URL:https://cgicanada.org/event/toronto-6am-morning-prayer-2/2024-07-28/
CATEGORIES:Prayer
ATTACH;FMTTYPE=image/jpeg:https://cgicanada.org/wp-content/uploads/2022/12/MorningPrayer-1.jpg
END:VEVENT
BEGIN:VEVENT
DTSTART;TZID=America/Toronto:20240804T060000
DTEND;TZID=America/Toronto:20240810T070000
DTSTAMP:20260423T054228
CREATED:20230206T211755Z
LAST-MODIFIED:20230206T212129Z
UID:10005154-1722751200-1723273200@cgicanada.org
SUMMARY:Toronto 6AM Morning Prayer
DESCRIPTION:  \nFor Information … Contact Ken Allen <ken.allen@cgicanada.org>
URL:https://cgicanada.org/event/toronto-6am-morning-prayer-2/2024-08-04/
CATEGORIES:Prayer
ATTACH;FMTTYPE=image/jpeg:https://cgicanada.org/wp-content/uploads/2022/12/MorningPrayer-1.jpg
END:VEVENT
BEGIN:VEVENT
DTSTART;TZID=America/Toronto:20240811T060000
DTEND;TZID=America/Toronto:20240817T070000
DTSTAMP:20260423T054228
CREATED:20230206T211755Z
LAST-MODIFIED:20230206T212129Z
UID:10005155-1723356000-1723878000@cgicanada.org
SUMMARY:Toronto 6AM Morning Prayer
DESCRIPTION:  \nFor Information … Contact Ken Allen <ken.allen@cgicanada.org>
URL:https://cgicanada.org/event/toronto-6am-morning-prayer-2/2024-08-11/
CATEGORIES:Prayer
ATTACH;FMTTYPE=image/jpeg:https://cgicanada.org/wp-content/uploads/2022/12/MorningPrayer-1.jpg
END:VEVENT
BEGIN:VEVENT
DTSTART;TZID=America/Toronto:20240818T060000
DTEND;TZID=America/Toronto:20240824T070000
DTSTAMP:20260423T054228
CREATED:20230206T211755Z
LAST-MODIFIED:20230206T212129Z
UID:10005156-1723960800-1724482800@cgicanada.org
SUMMARY:Toronto 6AM Morning Prayer
DESCRIPTION:  \nFor Information … Contact Ken Allen <ken.allen@cgicanada.org>
URL:https://cgicanada.org/event/toronto-6am-morning-prayer-2/2024-08-18/
CATEGORIES:Prayer
ATTACH;FMTTYPE=image/jpeg:https://cgicanada.org/wp-content/uploads/2022/12/MorningPrayer-1.jpg
END:VEVENT
BEGIN:VEVENT
DTSTART;TZID=America/Toronto:20240825T060000
DTEND;TZID=America/Toronto:20240831T070000
DTSTAMP:20260423T054228
CREATED:20230206T211755Z
LAST-MODIFIED:20230206T212129Z
UID:10005157-1724565600-1725087600@cgicanada.org
SUMMARY:Toronto 6AM Morning Prayer
DESCRIPTION:  \nFor Information … Contact Ken Allen <ken.allen@cgicanada.org>
URL:https://cgicanada.org/event/toronto-6am-morning-prayer-2/2024-08-25/
CATEGORIES:Prayer
ATTACH;FMTTYPE=image/jpeg:https://cgicanada.org/wp-content/uploads/2022/12/MorningPrayer-1.jpg
END:VEVENT
END:VCALENDAR