BEGIN:VCALENDAR
VERSION:2.0
PRODID:-//Church of God International, Canada - ECPv6.15.20//NONSGML v1.0//EN
CALSCALE:GREGORIAN
METHOD:PUBLISH
X-ORIGINAL-URL:https://cgicanada.org
X-WR-CALDESC:Events for Church of God International, Canada
REFRESH-INTERVAL;VALUE=DURATION:PT1H
X-Robots-Tag:noindex
X-PUBLISHED-TTL:PT1H
BEGIN:VTIMEZONE
TZID:America/Toronto
BEGIN:DAYLIGHT
TZOFFSETFROM:-0500
TZOFFSETTO:-0400
TZNAME:EDT
DTSTART:20230312T070000
END:DAYLIGHT
BEGIN:STANDARD
TZOFFSETFROM:-0400
TZOFFSETTO:-0500
TZNAME:EST
DTSTART:20231105T060000
END:STANDARD
BEGIN:DAYLIGHT
TZOFFSETFROM:-0500
TZOFFSETTO:-0400
TZNAME:EDT
DTSTART:20240310T070000
END:DAYLIGHT
BEGIN:STANDARD
TZOFFSETFROM:-0400
TZOFFSETTO:-0500
TZNAME:EST
DTSTART:20241103T060000
END:STANDARD
BEGIN:DAYLIGHT
TZOFFSETFROM:-0500
TZOFFSETTO:-0400
TZNAME:EDT
DTSTART:20250309T070000
END:DAYLIGHT
BEGIN:STANDARD
TZOFFSETFROM:-0400
TZOFFSETTO:-0500
TZNAME:EST
DTSTART:20251102T060000
END:STANDARD
END:VTIMEZONE
BEGIN:VEVENT
DTSTART;TZID=America/Toronto:20240901T060000
DTEND;TZID=America/Toronto:20240907T070000
DTSTAMP:20260422T203936
CREATED:20230206T211755Z
LAST-MODIFIED:20230206T212129Z
UID:10005158-1725170400-1725692400@cgicanada.org
SUMMARY:Toronto 6AM Morning Prayer
DESCRIPTION:  \nFor Information … Contact Ken Allen <ken.allen@cgicanada.org>
URL:https://cgicanada.org/event/toronto-6am-morning-prayer-2/2024-09-01/
CATEGORIES:Prayer
ATTACH;FMTTYPE=image/jpeg:https://cgicanada.org/wp-content/uploads/2022/12/MorningPrayer-1.jpg
END:VEVENT
BEGIN:VEVENT
DTSTART;TZID=America/Toronto:20240908T060000
DTEND;TZID=America/Toronto:20240914T070000
DTSTAMP:20260422T203936
CREATED:20230206T211755Z
LAST-MODIFIED:20230206T212129Z
UID:10005159-1725775200-1726297200@cgicanada.org
SUMMARY:Toronto 6AM Morning Prayer
DESCRIPTION:  \nFor Information … Contact Ken Allen <ken.allen@cgicanada.org>
URL:https://cgicanada.org/event/toronto-6am-morning-prayer-2/2024-09-08/
CATEGORIES:Prayer
ATTACH;FMTTYPE=image/jpeg:https://cgicanada.org/wp-content/uploads/2022/12/MorningPrayer-1.jpg
END:VEVENT
BEGIN:VEVENT
DTSTART;TZID=America/Toronto:20240915T060000
DTEND;TZID=America/Toronto:20240921T070000
DTSTAMP:20260422T203936
CREATED:20230206T211755Z
LAST-MODIFIED:20230206T212129Z
UID:10005160-1726380000-1726902000@cgicanada.org
SUMMARY:Toronto 6AM Morning Prayer
DESCRIPTION:  \nFor Information … Contact Ken Allen <ken.allen@cgicanada.org>
URL:https://cgicanada.org/event/toronto-6am-morning-prayer-2/2024-09-15/
CATEGORIES:Prayer
ATTACH;FMTTYPE=image/jpeg:https://cgicanada.org/wp-content/uploads/2022/12/MorningPrayer-1.jpg
END:VEVENT
BEGIN:VEVENT
DTSTART;TZID=America/Toronto:20240922T060000
DTEND;TZID=America/Toronto:20240928T070000
DTSTAMP:20260422T203936
CREATED:20230206T211755Z
LAST-MODIFIED:20230206T212129Z
UID:10005161-1726984800-1727506800@cgicanada.org
SUMMARY:Toronto 6AM Morning Prayer
DESCRIPTION:  \nFor Information … Contact Ken Allen <ken.allen@cgicanada.org>
URL:https://cgicanada.org/event/toronto-6am-morning-prayer-2/2024-09-22/
CATEGORIES:Prayer
ATTACH;FMTTYPE=image/jpeg:https://cgicanada.org/wp-content/uploads/2022/12/MorningPrayer-1.jpg
END:VEVENT
BEGIN:VEVENT
DTSTART;TZID=America/Toronto:20240929T060000
DTEND;TZID=America/Toronto:20241005T070000
DTSTAMP:20260422T203936
CREATED:20230206T211755Z
LAST-MODIFIED:20230206T212129Z
UID:10005162-1727589600-1728111600@cgicanada.org
SUMMARY:Toronto 6AM Morning Prayer
DESCRIPTION:  \nFor Information … Contact Ken Allen <ken.allen@cgicanada.org>
URL:https://cgicanada.org/event/toronto-6am-morning-prayer-2/2024-09-29/
CATEGORIES:Prayer
ATTACH;FMTTYPE=image/jpeg:https://cgicanada.org/wp-content/uploads/2022/12/MorningPrayer-1.jpg
END:VEVENT
END:VCALENDAR