BEGIN:VCALENDAR
VERSION:2.0
PRODID:-//Church of God International, Canada - ECPv6.15.20//NONSGML v1.0//EN
CALSCALE:GREGORIAN
METHOD:PUBLISH
X-ORIGINAL-URL:https://cgicanada.org
X-WR-CALDESC:Events for Church of God International, Canada
REFRESH-INTERVAL;VALUE=DURATION:PT1H
X-Robots-Tag:noindex
X-PUBLISHED-TTL:PT1H
BEGIN:VTIMEZONE
TZID:America/Toronto
BEGIN:DAYLIGHT
TZOFFSETFROM:-0500
TZOFFSETTO:-0400
TZNAME:EDT
DTSTART:20260308T070000
END:DAYLIGHT
BEGIN:STANDARD
TZOFFSETFROM:-0400
TZOFFSETTO:-0500
TZNAME:EST
DTSTART:20261101T060000
END:STANDARD
BEGIN:DAYLIGHT
TZOFFSETFROM:-0500
TZOFFSETTO:-0400
TZNAME:EDT
DTSTART:20270314T070000
END:DAYLIGHT
BEGIN:STANDARD
TZOFFSETFROM:-0400
TZOFFSETTO:-0500
TZNAME:EST
DTSTART:20271107T060000
END:STANDARD
BEGIN:DAYLIGHT
TZOFFSETFROM:-0500
TZOFFSETTO:-0400
TZNAME:EDT
DTSTART:20280312T070000
END:DAYLIGHT
BEGIN:STANDARD
TZOFFSETFROM:-0400
TZOFFSETTO:-0500
TZNAME:EST
DTSTART:20281105T060000
END:STANDARD
END:VTIMEZONE
BEGIN:VEVENT
DTSTART;TZID=America/Toronto:20271031T060000
DTEND;TZID=America/Toronto:20271106T070000
DTSTAMP:20260421T115548
CREATED:20230206T211755Z
LAST-MODIFIED:20230206T212129Z
UID:10005323-1824962400-1825484400@cgicanada.org
SUMMARY:Toronto 6AM Morning Prayer
DESCRIPTION:  \nFor Information … Contact Ken Allen <ken.allen@cgicanada.org>
URL:https://cgicanada.org/event/toronto-6am-morning-prayer-2/2027-10-31/
CATEGORIES:Prayer
ATTACH;FMTTYPE=image/jpeg:https://cgicanada.org/wp-content/uploads/2022/12/MorningPrayer-1.jpg
END:VEVENT
BEGIN:VEVENT
DTSTART;TZID=America/Toronto:20271107T060000
DTEND;TZID=America/Toronto:20271113T070000
DTSTAMP:20260421T115548
CREATED:20230206T211755Z
LAST-MODIFIED:20230206T212129Z
UID:10005324-1825567200-1826089200@cgicanada.org
SUMMARY:Toronto 6AM Morning Prayer
DESCRIPTION:  \nFor Information … Contact Ken Allen <ken.allen@cgicanada.org>
URL:https://cgicanada.org/event/toronto-6am-morning-prayer-2/2027-11-07/
CATEGORIES:Prayer
ATTACH;FMTTYPE=image/jpeg:https://cgicanada.org/wp-content/uploads/2022/12/MorningPrayer-1.jpg
END:VEVENT
BEGIN:VEVENT
DTSTART;TZID=America/Toronto:20271114T060000
DTEND;TZID=America/Toronto:20271120T070000
DTSTAMP:20260421T115548
CREATED:20230206T211755Z
LAST-MODIFIED:20230206T212129Z
UID:10005325-1826172000-1826694000@cgicanada.org
SUMMARY:Toronto 6AM Morning Prayer
DESCRIPTION:  \nFor Information … Contact Ken Allen <ken.allen@cgicanada.org>
URL:https://cgicanada.org/event/toronto-6am-morning-prayer-2/2027-11-14/
CATEGORIES:Prayer
ATTACH;FMTTYPE=image/jpeg:https://cgicanada.org/wp-content/uploads/2022/12/MorningPrayer-1.jpg
END:VEVENT
BEGIN:VEVENT
DTSTART;TZID=America/Toronto:20271121T060000
DTEND;TZID=America/Toronto:20271127T070000
DTSTAMP:20260421T115548
CREATED:20230206T211755Z
LAST-MODIFIED:20230206T212129Z
UID:10005326-1826776800-1827298800@cgicanada.org
SUMMARY:Toronto 6AM Morning Prayer
DESCRIPTION:  \nFor Information … Contact Ken Allen <ken.allen@cgicanada.org>
URL:https://cgicanada.org/event/toronto-6am-morning-prayer-2/2027-11-21/
CATEGORIES:Prayer
ATTACH;FMTTYPE=image/jpeg:https://cgicanada.org/wp-content/uploads/2022/12/MorningPrayer-1.jpg
END:VEVENT
BEGIN:VEVENT
DTSTART;TZID=America/Toronto:20271128T060000
DTEND;TZID=America/Toronto:20271204T070000
DTSTAMP:20260421T115548
CREATED:20230206T211755Z
LAST-MODIFIED:20230206T212129Z
UID:10005327-1827381600-1827903600@cgicanada.org
SUMMARY:Toronto 6AM Morning Prayer
DESCRIPTION:  \nFor Information … Contact Ken Allen <ken.allen@cgicanada.org>
URL:https://cgicanada.org/event/toronto-6am-morning-prayer-2/2027-11-28/
CATEGORIES:Prayer
ATTACH;FMTTYPE=image/jpeg:https://cgicanada.org/wp-content/uploads/2022/12/MorningPrayer-1.jpg
END:VEVENT
END:VCALENDAR