BEGIN:VCALENDAR
VERSION:2.0
PRODID:-//Church of God International, Canada - ECPv6.15.20//NONSGML v1.0//EN
CALSCALE:GREGORIAN
METHOD:PUBLISH
X-WR-CALNAME:Church of God International, Canada
X-ORIGINAL-URL:https://cgicanada.org
X-WR-CALDESC:Events for Church of God International, Canada
REFRESH-INTERVAL;VALUE=DURATION:PT1H
X-Robots-Tag:noindex
X-PUBLISHED-TTL:PT1H
BEGIN:VTIMEZONE
TZID:America/Toronto
BEGIN:DAYLIGHT
TZOFFSETFROM:-0500
TZOFFSETTO:-0400
TZNAME:EDT
DTSTART:20270314T070000
END:DAYLIGHT
BEGIN:STANDARD
TZOFFSETFROM:-0400
TZOFFSETTO:-0500
TZNAME:EST
DTSTART:20271107T060000
END:STANDARD
BEGIN:DAYLIGHT
TZOFFSETFROM:-0500
TZOFFSETTO:-0400
TZNAME:EDT
DTSTART:20280312T070000
END:DAYLIGHT
BEGIN:STANDARD
TZOFFSETFROM:-0400
TZOFFSETTO:-0500
TZNAME:EST
DTSTART:20281105T060000
END:STANDARD
BEGIN:DAYLIGHT
TZOFFSETFROM:-0500
TZOFFSETTO:-0400
TZNAME:EDT
DTSTART:20290311T070000
END:DAYLIGHT
BEGIN:STANDARD
TZOFFSETFROM:-0400
TZOFFSETTO:-0500
TZNAME:EST
DTSTART:20291104T060000
END:STANDARD
END:VTIMEZONE
BEGIN:VEVENT
DTSTART;TZID=America/Toronto:20280827T060000
DTEND;TZID=America/Toronto:20280902T070000
DTSTAMP:20260421T060808
CREATED:20230206T211755Z
LAST-MODIFIED:20230206T212129Z
UID:10005366-1850968800-1851490800@cgicanada.org
SUMMARY:Toronto 6AM Morning Prayer
DESCRIPTION:  \nFor Information … Contact Ken Allen <ken.allen@cgicanada.org>
URL:https://cgicanada.org/event/toronto-6am-morning-prayer-2/2028-08-27/
CATEGORIES:Prayer
ATTACH;FMTTYPE=image/jpeg:https://cgicanada.org/wp-content/uploads/2022/12/MorningPrayer-1.jpg
END:VEVENT
BEGIN:VEVENT
DTSTART;TZID=America/Toronto:20280903T060000
DTEND;TZID=America/Toronto:20280909T070000
DTSTAMP:20260421T060808
CREATED:20230206T211755Z
LAST-MODIFIED:20230206T212129Z
UID:10005367-1851573600-1852095600@cgicanada.org
SUMMARY:Toronto 6AM Morning Prayer
DESCRIPTION:  \nFor Information … Contact Ken Allen <ken.allen@cgicanada.org>
URL:https://cgicanada.org/event/toronto-6am-morning-prayer-2/2028-09-03/
CATEGORIES:Prayer
ATTACH;FMTTYPE=image/jpeg:https://cgicanada.org/wp-content/uploads/2022/12/MorningPrayer-1.jpg
END:VEVENT
BEGIN:VEVENT
DTSTART;TZID=America/Toronto:20280905T120000
DTEND;TZID=America/Toronto:20280905T130000
DTSTAMP:20260421T060808
CREATED:20230109T012141Z
LAST-MODIFIED:20230206T204204Z
UID:10006627-1851768000-1851771600@cgicanada.org
SUMMARY:Prove All Things (Live Webcast)
DESCRIPTION:https://cgi.online.church/
URL:https://cgicanada.org/event/prove-all-things-live-webcast/2028-09-05/
CATEGORIES:Outreach
ATTACH;FMTTYPE=image/jpeg:https://cgicanada.org/wp-content/uploads/2022/11/Prove.jpg
END:VEVENT
BEGIN:VEVENT
DTSTART;TZID=America/Toronto:20280910T060000
DTEND;TZID=America/Toronto:20280916T070000
DTSTAMP:20260421T060808
CREATED:20230206T211755Z
LAST-MODIFIED:20230206T212129Z
UID:10005368-1852178400-1852700400@cgicanada.org
SUMMARY:Toronto 6AM Morning Prayer
DESCRIPTION:  \nFor Information … Contact Ken Allen <ken.allen@cgicanada.org>
URL:https://cgicanada.org/event/toronto-6am-morning-prayer-2/2028-09-10/
CATEGORIES:Prayer
ATTACH;FMTTYPE=image/jpeg:https://cgicanada.org/wp-content/uploads/2022/12/MorningPrayer-1.jpg
END:VEVENT
BEGIN:VEVENT
DTSTART;TZID=America/Toronto:20280912T120000
DTEND;TZID=America/Toronto:20280912T130000
DTSTAMP:20260421T060808
CREATED:20230109T012141Z
LAST-MODIFIED:20230206T204204Z
UID:10006628-1852372800-1852376400@cgicanada.org
SUMMARY:Prove All Things (Live Webcast)
DESCRIPTION:https://cgi.online.church/
URL:https://cgicanada.org/event/prove-all-things-live-webcast/2028-09-12/
CATEGORIES:Outreach
ATTACH;FMTTYPE=image/jpeg:https://cgicanada.org/wp-content/uploads/2022/11/Prove.jpg
END:VEVENT
BEGIN:VEVENT
DTSTART;TZID=America/Toronto:20280917T060000
DTEND;TZID=America/Toronto:20280923T070000
DTSTAMP:20260421T060808
CREATED:20230206T211755Z
LAST-MODIFIED:20230206T212129Z
UID:10005369-1852783200-1853305200@cgicanada.org
SUMMARY:Toronto 6AM Morning Prayer
DESCRIPTION:  \nFor Information … Contact Ken Allen <ken.allen@cgicanada.org>
URL:https://cgicanada.org/event/toronto-6am-morning-prayer-2/2028-09-17/
CATEGORIES:Prayer
ATTACH;FMTTYPE=image/jpeg:https://cgicanada.org/wp-content/uploads/2022/12/MorningPrayer-1.jpg
END:VEVENT
BEGIN:VEVENT
DTSTART;TZID=America/Toronto:20280919T120000
DTEND;TZID=America/Toronto:20280919T130000
DTSTAMP:20260421T060808
CREATED:20230109T012141Z
LAST-MODIFIED:20230206T204204Z
UID:10006629-1852977600-1852981200@cgicanada.org
SUMMARY:Prove All Things (Live Webcast)
DESCRIPTION:https://cgi.online.church/
URL:https://cgicanada.org/event/prove-all-things-live-webcast/2028-09-19/
CATEGORIES:Outreach
ATTACH;FMTTYPE=image/jpeg:https://cgicanada.org/wp-content/uploads/2022/11/Prove.jpg
END:VEVENT
BEGIN:VEVENT
DTSTART;TZID=America/Toronto:20280924T060000
DTEND;TZID=America/Toronto:20280930T070000
DTSTAMP:20260421T060808
CREATED:20230206T211755Z
LAST-MODIFIED:20230206T212129Z
UID:10005370-1853388000-1853910000@cgicanada.org
SUMMARY:Toronto 6AM Morning Prayer
DESCRIPTION:  \nFor Information … Contact Ken Allen <ken.allen@cgicanada.org>
URL:https://cgicanada.org/event/toronto-6am-morning-prayer-2/2028-09-24/
CATEGORIES:Prayer
ATTACH;FMTTYPE=image/jpeg:https://cgicanada.org/wp-content/uploads/2022/12/MorningPrayer-1.jpg
END:VEVENT
BEGIN:VEVENT
DTSTART;TZID=America/Toronto:20280926T120000
DTEND;TZID=America/Toronto:20280926T130000
DTSTAMP:20260421T060808
CREATED:20230109T012141Z
LAST-MODIFIED:20230206T204204Z
UID:10006630-1853582400-1853586000@cgicanada.org
SUMMARY:Prove All Things (Live Webcast)
DESCRIPTION:https://cgi.online.church/
URL:https://cgicanada.org/event/prove-all-things-live-webcast/2028-09-26/
CATEGORIES:Outreach
ATTACH;FMTTYPE=image/jpeg:https://cgicanada.org/wp-content/uploads/2022/11/Prove.jpg
END:VEVENT
END:VCALENDAR