BEGIN:VCALENDAR
VERSION:2.0
PRODID:-//Church of God International, Canada - ECPv6.15.20//NONSGML v1.0//EN
CALSCALE:GREGORIAN
METHOD:PUBLISH
X-WR-CALNAME:Church of God International, Canada
X-ORIGINAL-URL:https://cgicanada.org
X-WR-CALDESC:Events for Church of God International, Canada
REFRESH-INTERVAL;VALUE=DURATION:PT1H
X-Robots-Tag:noindex
X-PUBLISHED-TTL:PT1H
BEGIN:VTIMEZONE
TZID:America/Toronto
BEGIN:DAYLIGHT
TZOFFSETFROM:-0500
TZOFFSETTO:-0400
TZNAME:EDT
DTSTART:20280312T070000
END:DAYLIGHT
BEGIN:STANDARD
TZOFFSETFROM:-0400
TZOFFSETTO:-0500
TZNAME:EST
DTSTART:20281105T060000
END:STANDARD
BEGIN:DAYLIGHT
TZOFFSETFROM:-0500
TZOFFSETTO:-0400
TZNAME:EDT
DTSTART:20290311T070000
END:DAYLIGHT
BEGIN:STANDARD
TZOFFSETFROM:-0400
TZOFFSETTO:-0500
TZNAME:EST
DTSTART:20291104T060000
END:STANDARD
BEGIN:DAYLIGHT
TZOFFSETFROM:-0500
TZOFFSETTO:-0400
TZNAME:EDT
DTSTART:20300310T070000
END:DAYLIGHT
BEGIN:STANDARD
TZOFFSETFROM:-0400
TZOFFSETTO:-0500
TZNAME:EST
DTSTART:20301103T060000
END:STANDARD
END:VTIMEZONE
BEGIN:VEVENT
DTSTART;TZID=America/Toronto:20291106T120000
DTEND;TZID=America/Toronto:20291106T130000
DTSTAMP:20260423T050736
CREATED:20230109T012141Z
LAST-MODIFIED:20230206T204204Z
UID:10006688-1888660800-1888664400@cgicanada.org
SUMMARY:Prove All Things (Live Webcast)
DESCRIPTION:https://cgi.online.church/
URL:https://cgicanada.org/event/prove-all-things-live-webcast/2029-11-06/
CATEGORIES:Outreach
ATTACH;FMTTYPE=image/jpeg:https://cgicanada.org/wp-content/uploads/2022/11/Prove.jpg
END:VEVENT
BEGIN:VEVENT
DTSTART;TZID=America/Toronto:20291113T120000
DTEND;TZID=America/Toronto:20291113T130000
DTSTAMP:20260423T050736
CREATED:20230109T012141Z
LAST-MODIFIED:20230206T204204Z
UID:10006689-1889265600-1889269200@cgicanada.org
SUMMARY:Prove All Things (Live Webcast)
DESCRIPTION:https://cgi.online.church/
URL:https://cgicanada.org/event/prove-all-things-live-webcast/2029-11-13/
CATEGORIES:Outreach
ATTACH;FMTTYPE=image/jpeg:https://cgicanada.org/wp-content/uploads/2022/11/Prove.jpg
END:VEVENT
BEGIN:VEVENT
DTSTART;TZID=America/Toronto:20291120T120000
DTEND;TZID=America/Toronto:20291120T130000
DTSTAMP:20260423T050736
CREATED:20230109T012141Z
LAST-MODIFIED:20230206T204204Z
UID:10006690-1889870400-1889874000@cgicanada.org
SUMMARY:Prove All Things (Live Webcast)
DESCRIPTION:https://cgi.online.church/
URL:https://cgicanada.org/event/prove-all-things-live-webcast/2029-11-20/
CATEGORIES:Outreach
ATTACH;FMTTYPE=image/jpeg:https://cgicanada.org/wp-content/uploads/2022/11/Prove.jpg
END:VEVENT
BEGIN:VEVENT
DTSTART;TZID=America/Toronto:20291127T120000
DTEND;TZID=America/Toronto:20291127T130000
DTSTAMP:20260423T050736
CREATED:20230109T012141Z
LAST-MODIFIED:20230206T204204Z
UID:10006691-1890475200-1890478800@cgicanada.org
SUMMARY:Prove All Things (Live Webcast)
DESCRIPTION:https://cgi.online.church/
URL:https://cgicanada.org/event/prove-all-things-live-webcast/2029-11-27/
CATEGORIES:Outreach
ATTACH;FMTTYPE=image/jpeg:https://cgicanada.org/wp-content/uploads/2022/11/Prove.jpg
END:VEVENT
END:VCALENDAR